{"text_format":"1","workbook":"xlsx","n_sheets":15,"sheets":["基礎データ入力","選手Code入力","春Ｓ","春Ｄ","春団","夏Jr.","近予Ｓ","近予Ｄ","秋Ｓ","秋Ｄ","秋団","冬D","県Jr.S","県Jr.D","学校データ"],"not_rendered":{"charts":0,"images":0,"macros":1,"external_links":0,"defined_names":32,"comments":15,"pivot_tables":0},"unopened":[],"bounds":{"document_bytes":16777216,"sheet_cells":100000,"rows_first":2000,"rows_last":500,"rows_between":2000,"halvings":0,"cell_chars":16384,"cell_head_chars":4096},"cells_cut":0,"cells_raw":0,"read":"whole","date_system":"1900"}

{"sheet":"基礎データ入力","index":0,"n_rows":79,"n_cols":3,"rows_kept":79,"cut":false,"hidden":false,"merged":[]}
["本日の日付→",{"$f":"NOW()","v":"2018-03-29T15:46:44.330"}]
[null,"基礎データ入力画面です。\n以下の項目 を入力して下さい。"]
[]
[1,"年度（平成）","入力例"]
[null,30,27]
[]
[2,"学校名（高校の文字は不要です。）","入力例"]
[null,"栗東","石部"]
[]
[3,"所在地"]
["学校データ!へ移動",{"$f":"IF(本校名=\"\",\"\",VLOOKUP(本校名,学校データ!B:E,4,0))","v":"栗東市小野618"},"自動で表示"]
[]
[4,"電話番号"]
[null,{"$f":"IF(本校名=\"\",\"\",VLOOKUP(本校名,学校データ!B:F,5,0))","v":"077-553-3350"}]
[]
[5,"個人戦　顧問名（申込責任者）","入力例"]
[null,"志村　桃","赤田　次郎"]
[]
[6,"春季団体戦　監督名"]
[null,"志村　桃","春山　一郎"]
[]
[]
[]
[]
[7,"秋季団体戦　監督名"]
[null,{"$f":"harukantoku","v":"志村　桃"},"秋田　明子"]
[]
[8,"選手コードと選手氏名をsheet!「選手Code入力」"]
[null,"のＡ～Ｂ列に作成して下さい。"]
[]
[]
[]
[]
[]
[]
[]
[]
[]
[]
[]
[null,"選手Code入力!A1"]
[]
[]
[]
[]
[]
[]
[]
[]
[]
[]
[]
[]
[]
[]
[]
[]
[]
[]
[]
[]
[]
[]
[]
[]
[]
[]
[]
[]
[]
[]
[]
[]
[]
[]
[]
[]
["　　　　　　　（申し込み締め切りを過ぎた場合、"]
["　　　　　　　　不参加扱いになりますので、ご注意ください。）"]

{"sheet":"選手Code入力","index":1,"n_rows":109,"n_cols":17,"rows_kept":109,"cut":false,"hidden":false,"merged":[]}
[]
["※各校でA列に選手コードを、Ｂ列に選手名を値貼り付けして下さい。"]
[]
["選手コード","名前","学年",null,"エントリーコード"]
[201621101,"澤田  希絵",{"$f":"VALUE(MID(E5,1,1))","v":3},{"$f":"A5","v":201621101},{"$f":"VLOOKUP(VALUE(LEFT(A5,4)),$I$6:$M$22,5,0)*100000+VALUE(MID(A5,5,1)*10000)+VALUE(MID(A5,6,1)*1000)+VALUE(MID(A5,7,1)*100)+VALUE(RIGHT(A5,2))","v":321101},null,null,null,"入学年","this year",null,"month","学年",null,null,"学校名","学校コード"]
[201621103,"村田  ゆり子",3,201621103,321103,null,null,null,null,null,null,null,null,null,null,"高島",1]
[201621104,"眞門  有香",3,201621104,321104,null,null,null,2008,{"$f":"IF(L7>=3,YEAR(NOW()),YEAR(NOW())-1)","v":2018},{"$f":"NOW()","v":"2018-03-29T15:46:44.330"},{"$f":"MONTH(K7)","v":3},{"$f":"J7-I7+1","v":11},null,null,"堅田",2]
[201621105,"岸本  璃月稀",3,201621105,321105,null,null,null,2009,2018,"2018-03-29T15:46:44.330",3,10,null,null,"北大津",3]
[201621106,"小寺  楓",3,201621106,321106,null,null,null,2010,2018,"2018-03-29T15:46:44.330",3,9,null,null,"大津商業",4]
[201621107,"山本 詠万",3,201621107,321107,null,null,null,2011,2018,"2018-03-29T15:46:44.330",3,8,null,null,"大津",5]
[201721101,"市川  遥菜",2,201721101,221101,null,null,null,2012,2018,"2018-03-29T15:46:44.330",3,7,null,null,"膳所",6]
[201721102,"加茂　愛奈",2,201721102,221102,null,null,null,2013,2018,"2018-03-29T15:46:44.330",3,6,null,null,"東大津",7]
[201721103,"杉本  彩乃",2,201721103,221103,null,null,null,2014,2018,"2018-03-29T15:46:44.330",3,5,null,null,"玉川",8]
[201721105,"市川  結唯",2,201721105,221105,null,null,null,2015,2018,"2018-03-29T15:46:44.330",3,{"$f":"J14-I14+1","v":4},null,null,"光泉",9]
[201721106,"奥谷  陽奈",2,201721106,221106,null,null,null,2016,2018,"2018-03-29T15:46:44.330",3,3,null,null,"草津",10]
[201721108,"二瀬　涼子",2,201721108,221108,null,null,null,2017,{"$f":"IF(L16>=3,YEAR(NOW()),YEAR(NOW())-1)","v":2018},{"$f":"NOW()","v":"2018-03-29T15:46:44.330"},3,2,null,null,"栗東",11]
[201721109,"福岡  あかり",2,201721109,221109,null,null,null,2018,{"$f":"IF(L17>=3,YEAR(NOW()),YEAR(NOW())-1)","v":2018},{"$f":"NOW()","v":"2018-03-29T15:46:44.330"},{"$f":"MONTH(K17)","v":3},1,null,null,"国際情報",12]
[null,null,{"$error":"#VALUE!"},0,{"$error":"#VALUE!"},null,null,null,2019,2018,"2018-03-29T15:46:44.330",3,0,null,null,"守山北",13]
[null,null,{"$f":"VALUE(MID(E19,1,1))","v":{"$error":"#VALUE!"}},{"$f":"A19","v":0},{"$f":"VLOOKUP(VALUE(LEFT(A19,4)),$I$6:$M$22,5,0)*100000+VALUE(MID(A19,5,1)*10000)+VALUE(MID(A19,6,1)*1000)+VALUE(MID(A19,7,1)*100)+VALUE(RIGHT(A19,2))","v":{"$error":"#VALUE!"}},null,null,null,2020,2018,"2018-03-29T15:46:44.330",3,-1,null,null,"石部",14]
[null,null,{"$error":"#VALUE!"},0,{"$error":"#VALUE!"},null,null,null,2021,2018,"2018-03-29T15:46:44.330",3,-2,null,null,"水口東",15]
[null,null,{"$error":"#VALUE!"},0,{"$error":"#VALUE!"},null,null,null,2022,2018,"2018-03-29T15:46:44.330",3,-3,null,null,"甲南",16]
[null,null,{"$error":"#VALUE!"},0,{"$error":"#VALUE!"},null,null,null,2023,2018,"2018-03-29T15:46:44.330",3,-4,null,null,"愛知",17]
[null,null,{"$error":"#VALUE!"},0,{"$error":"#VALUE!"},null,null,null,null,null,null,null,null,null,null,"日野",18]
[null,null,{"$error":"#VALUE!"},0,{"$error":"#VALUE!"},null,null,null,null,null,null,null,null,null,null,"能登川",19]
[null,null,{"$error":"#VALUE!"},0,{"$error":"#VALUE!"},null,null,null,null,null,null,null,null,null,null,"彦根工業",20]
[null,null,{"$error":"#VALUE!"},0,{"$error":"#VALUE!"},null,null,null,null,null,null,null,null,null,null,"近江",21]
[null,null,{"$error":"#VALUE!"},0,{"$error":"#VALUE!"},null,null,null,null,null,null,null,null,null,null,"米原",22]
[null,null,{"$error":"#VALUE!"},0,{"$error":"#VALUE!"},null,null,null,null,null,null,null,null,null,null,"長浜北星",23]
[null,null,{"$error":"#VALUE!"},0,{"$error":"#VALUE!"},null,null,null,null,null,null,null,null,null,null,"伊吹",24]
[null,null,{"$error":"#VALUE!"},0,{"$error":"#VALUE!"},null,null,null,null,null,null,null,null,null,null,"虎姫",25]
[null,null,{"$error":"#VALUE!"},0,{"$error":"#VALUE!"},null,null,null,null,null,null,null,null,null,null,"比叡山",26]
[null,null,{"$error":"#VALUE!"},0,{"$error":"#VALUE!"},null,null,null,null,null,null,null,null,null,null,"長浜",27]
[null,null,{"$error":"#VALUE!"},0,{"$error":"#VALUE!"},null,null,null,null,null,null,null,null,null,null,"八日市南",28]
[null,null,{"$error":"#VALUE!"},0,{"$error":"#VALUE!"},null,null,null,null,null,null,null,null,null,null,"守山",29]
[null,null,{"$error":"#VALUE!"},0,{"$error":"#VALUE!"},null,null,null,null,null,null,null,null,null,null,"八幡",30]
[null,null,{"$error":"#VALUE!"},0,{"$error":"#VALUE!"},null,null,null,null,null,null,null,null,null,null,"近江兄弟社",31]
[null,null,{"$error":"#VALUE!"},0,{"$error":"#VALUE!"},null,null,null,null,null,null,null,null,null,null,"立命館守山",32]
[null,null,{"$error":"#VALUE!"},0,{"$error":"#VALUE!"},null,null,null,null,null,null,null,null,null,null,"彦根総合",33]
[null,null,{"$error":"#VALUE!"},0,{"$error":"#VALUE!"},null,null,null,null,null,null,null,null,null,null,"滋賀短期大学附属",54]
[null,null,{"$error":"#VALUE!"},0,{"$error":"#VALUE!"},null,null,null,null,null,null,null,null,null,null,"滋賀学園",55]
[null,null,{"$error":"#VALUE!"},0,{"$error":"#VALUE!"}]
[null,null,{"$error":"#VALUE!"},0,{"$error":"#VALUE!"}]
[null,null,{"$error":"#VALUE!"},0,{"$error":"#VALUE!"}]
[null,null,{"$error":"#VALUE!"},0,{"$error":"#VALUE!"}]
[null,null,{"$error":"#VALUE!"},0,{"$error":"#VALUE!"}]
[null,null,{"$error":"#VALUE!"},0,{"$error":"#VALUE!"}]
[null,null,{"$error":"#VALUE!"},0,{"$error":"#VALUE!"}]
[null,null,{"$error":"#VALUE!"},0,{"$error":"#VALUE!"}]
[null,null,{"$error":"#VALUE!"},0,{"$error":"#VALUE!"}]
[null,null,{"$error":"#VALUE!"},0,{"$error":"#VALUE!"}]
[null,null,{"$error":"#VALUE!"},0,{"$error":"#VALUE!"}]
[null,null,{"$error":"#VALUE!"},0,{"$error":"#VALUE!"}]
[null,null,{"$error":"#VALUE!"},0,{"$error":"#VALUE!"}]
[null,null,{"$error":"#VALUE!"},0,{"$error":"#VALUE!"}]
[null,null,{"$error":"#VALUE!"},0,{"$error":"#VALUE!"}]
[null,null,{"$error":"#VALUE!"},0,{"$error":"#VALUE!"}]
[null,null,{"$error":"#VALUE!"},0,{"$error":"#VALUE!"}]
[null,null,{"$error":"#VALUE!"},0,{"$error":"#VALUE!"}]
[null,null,{"$error":"#VALUE!"},0,{"$error":"#VALUE!"}]
[null,null,{"$error":"#VALUE!"},0,{"$error":"#VALUE!"}]
[null,null,{"$error":"#VALUE!"},0,{"$error":"#VALUE!"}]
[null,null,{"$error":"#VALUE!"},0,{"$error":"#VALUE!"}]
[null,null,{"$error":"#VALUE!"},0,{"$error":"#VALUE!"}]
[null,null,{"$error":"#VALUE!"},0,{"$error":"#VALUE!"}]
[null,null,{"$error":"#VALUE!"},0,{"$error":"#VALUE!"}]
[null,null,{"$error":"#VALUE!"},0,{"$error":"#VALUE!"}]
[null,null,{"$error":"#VALUE!"},0,{"$error":"#VALUE!"}]
[null,null,{"$error":"#VALUE!"},0,{"$error":"#VALUE!"}]
[null,null,{"$error":"#VALUE!"},0,{"$error":"#VALUE!"}]
[null,null,{"$f":"VALUE(MID(E70,1,1))","v":{"$error":"#VALUE!"}},{"$f":"A70","v":0},{"$f":"VLOOKUP(VALUE(LEFT(A70,4)),$I$6:$M$22,5,0)*100000+VALUE(MID(A70,5,1)*10000)+VALUE(MID(A70,6,1)*1000)+VALUE(MID(A70,7,1)*100)+VALUE(RIGHT(A70,2))","v":{"$error":"#VALUE!"}}]
[null,null,{"$error":"#VALUE!"},0,{"$error":"#VALUE!"}]
[null,null,{"$error":"#VALUE!"},0,{"$error":"#VALUE!"}]
[null,null,{"$error":"#VALUE!"},0,{"$error":"#VALUE!"}]
[null,null,{"$error":"#VALUE!"},0,{"$error":"#VALUE!"}]
[null,null,{"$error":"#VALUE!"},0,{"$error":"#VALUE!"}]
[null,null,{"$error":"#VALUE!"},0,{"$error":"#VALUE!"}]
[null,null,{"$error":"#VALUE!"},0,{"$error":"#VALUE!"}]
[null,null,{"$error":"#VALUE!"},0,{"$error":"#VALUE!"}]
[null,null,{"$error":"#VALUE!"},0,{"$error":"#VALUE!"}]
[null,null,{"$error":"#VALUE!"},0,{"$error":"#VALUE!"}]
[null,null,{"$error":"#VALUE!"},0,{"$error":"#VALUE!"}]
[null,null,{"$error":"#VALUE!"},0,{"$error":"#VALUE!"}]
[null,null,{"$error":"#VALUE!"},0,{"$error":"#VALUE!"}]
[null,null,{"$error":"#VALUE!"},0,{"$error":"#VALUE!"}]
[null,null,{"$error":"#VALUE!"},0,{"$error":"#VALUE!"}]
[null,null,{"$error":"#VALUE!"},0,{"$error":"#VALUE!"}]
[null,null,{"$error":"#VALUE!"},0,{"$error":"#VALUE!"}]
[null,null,{"$error":"#VALUE!"},0,{"$error":"#VALUE!"}]
[null,null,{"$error":"#VALUE!"},0,{"$error":"#VALUE!"}]
[null,null,{"$error":"#VALUE!"},0,{"$error":"#VALUE!"}]
[null,null,{"$error":"#VALUE!"},0,{"$error":"#VALUE!"}]
[null,null,{"$error":"#VALUE!"},0,{"$error":"#VALUE!"}]
[null,null,{"$error":"#VALUE!"},0,{"$error":"#VALUE!"}]
[null,null,{"$error":"#VALUE!"},0,{"$error":"#VALUE!"}]
[null,null,{"$error":"#VALUE!"},0,{"$error":"#VALUE!"}]
[null,null,{"$error":"#VALUE!"},0,{"$error":"#VALUE!"}]
[null,null,{"$error":"#VALUE!"},{"$f":"A97","v":0},{"$error":"#VALUE!"}]
[null,null,{"$error":"#VALUE!"},0,{"$error":"#VALUE!"}]
[null,null,{"$error":"#VALUE!"},0,{"$error":"#VALUE!"}]
[null,null,{"$error":"#VALUE!"},0,{"$error":"#VALUE!"}]
[null,null,{"$error":"#VALUE!"},0,{"$error":"#VALUE!"}]
[null,null,{"$error":"#VALUE!"},0,{"$error":"#VALUE!"}]
[null,null,{"$error":"#VALUE!"},0,{"$error":"#VALUE!"}]
[null,null,{"$error":"#VALUE!"},0,{"$error":"#VALUE!"}]
[null,null,{"$error":"#VALUE!"},0,{"$error":"#VALUE!"}]
[null,null,{"$error":"#VALUE!"},0,{"$error":"#VALUE!"}]
[null,null,{"$error":"#VALUE!"},0,{"$error":"#VALUE!"}]
[null,null,{"$error":"#VALUE!"},0,{"$error":"#VALUE!"}]
[null,null,{"$error":"#VALUE!"},0,{"$error":"#VALUE!"}]

{"sheet":"春Ｓ","index":2,"n_rows":68,"n_cols":9,"rows_kept":68,"cut":false,"hidden":false,"merged":[[1,1,1,8],[65,1,65,8],[2,1,2,8],[36,1,36,8],[31,1,31,8],[35,1,35,8],[33,3,33,7]]}
[null,null,null,null,null,null,null,{"$f":"VLOOKUP(本校名,選手Code入力!$P$6:$Q$41,2,0)","v":11}]
["編集不可（基礎データ入力！画面で開催年度を更新してください。）　　　→",{"$f":"\"平成\"&年度&\"年度  \"&\"滋賀県春季高校総体ﾃﾆｽ競技大会\"","v":"平成30年度  滋賀県春季高校総体ﾃﾆｽ競技大会"}]
[null,"シングルスの部（　男子　・　女子）参加申込書"]
[]
[null,{"$f":"\"学校名   \"&本校名&\"高等学校\"","v":"学校名   栗東高等学校"},null,null,null,{"$f":"\"顧問名　　　\"&顧問名","v":"顧問名　　　志村　桃"}]
["基礎データ入力へ"]
[null,{"$f":"\"所在地　　　\"&所在地","v":"所在地　　　栗東市小野618"},null,null,null,{"$f":"\"電話番号　\"&電話番号","v":"電話番号　077-553-3350"}]
[null,"記入例"]
[null,3,"中野　忍",2,"秋季ベスト１６",3,210101,"中野　忍","高島"]
[]
[null,"順位","選手氏名","学年","戦績","順位","コード","選手氏名","所属校"]
[null,1,null,{"$f":"IF(ISERROR(VLOOKUP(H12,名前コード,2,0)),\"\",VLOOKUP(H12,名前コード,2,0))","v":""},null,1,{"$f":"IF(C12=\"\",\"\",VLOOKUP(C12,名前,4,0))","v":""},{"$f":"C12","v":0},{"$f":"IF(C12=\"\",\"\",本校名)","v":""}]
[null,2,null,{"$f":"IF(ISERROR(VLOOKUP(H13,名前コード,2,0)),\"\",VLOOKUP(H13,名前コード,2,0))","v":""},null,2,{"$f":"IF(C13=\"\",\"\",VLOOKUP(C13,名前,4,0))","v":""},{"$f":"C13","v":0},{"$f":"IF(C13=\"\",\"\",本校名)","v":""}]
[null,3,null,{"$f":"IF(ISERROR(VLOOKUP(H14,名前コード,2,0)),\"\",VLOOKUP(H14,名前コード,2,0))","v":""},null,3,"",0,""]
[null,4,null,"",null,4,"",0,""]
[null,5,null,"",null,5,"",0,""]
[null,6,null,"",null,6,"",0,""]
[null,7,null,"",null,7,"",0,""]
[null,8,null,"",null,8,"",0,""]
[null,9,null,"",null,9,"",0,""]
[null,10,null,"",null,10,"",0,""]
[null,11,null,"",null,11,"",0,""]
[null,12,null,"",null,12,"",0,""]
[null,13,null,"",null,13,"",0,""]
[null,14,null,"",null,14,"",0,""]
[null,15,null,"",null,15,"",0,""]
[null,16,null,"",null,16,"",0,""]
[null,17,null,"",null,17,"",0,""]
[null,18,null,"",null,18,"",0,""]
[null,19,null,"",null,19,"",0,""]
[null,20,null,"",null,20,"",0,""]
[null,"上記の者は本校在籍生徒で、表記大会に出場することを認めます。"]
[null,null,null,null,null,{"$f":"NOW()","v":"2018-03-29T15:46:44.310"}]
[null,null,null,{"$f":"本校名&\"高等学校長　　 \"","v":"栗東高等学校長　　 "},null,null,null,null,{"$f":"春Ｄ!I45","v":"印"}]
[]
["編集不可（基礎データ入力！画面で操作してください。）→",{"$f":"$B$2","v":"平成30年度  滋賀県春季高校総体ﾃﾆｽ競技大会"}]
["リストから種目を選んで下さい。　　　　　　　　　　　→","シングルスの部（　男子　・　女子）参加申込書"]
[]
[null,{"$f":"\"学校名   \"&本校名&\"高等学校\"","v":"学校名   栗東高等学校"},null,null,null,{"$f":"\"顧問名　　　\"&顧問名","v":"顧問名　　　志村　桃"}]
["基礎データ入力へ"]
[null,{"$f":"\"所在地　　　\"&所在地","v":"所在地　　　栗東市小野618"},null,null,null,{"$f":"\"電話番号　\"&電話番号","v":"電話番号　077-553-3350"}]
[null,"記入例"]
[null,3,"中野　忍",2,"秋季ベスト１６",1,210101,"中野　忍","高島"]
[]
[null,"順位","選手氏名","学年","戦績","順位","コード","選手氏名","所属校"]
[null,21,null,{"$f":"IF(ISERROR(VLOOKUP(H46,名前コード,2,0)),\"\",VLOOKUP(H46,名前コード,2,0))","v":""},null,{"$f":"B46","v":21},{"$f":"IF(C46=\"\",\"\",VLOOKUP(C46,名前,4,0))","v":""},{"$f":"C46","v":0},{"$f":"IF(C46=\"\",\"\",本校名)","v":""}]
[null,{"$f":"B46+1","v":22},null,{"$f":"IF(ISERROR(VLOOKUP(H47,名前コード,2,0)),\"\",VLOOKUP(H47,名前コード,2,0))","v":""},null,{"$f":"B47","v":22},{"$f":"IF(C47=\"\",\"\",VLOOKUP(C47,名前,4,0))","v":""},{"$f":"C47","v":0},{"$f":"IF(C47=\"\",\"\",本校名)","v":""}]
[null,{"$f":"B47+1","v":23},null,{"$f":"IF(ISERROR(VLOOKUP(H48,名前コード,2,0)),\"\",VLOOKUP(H48,名前コード,2,0))","v":""},null,{"$f":"B48","v":23},"",0,""]
[null,24,null,"",null,24,"",0,""]
[null,25,null,"",null,25,"",0,""]
[null,26,null,"",null,26,"",0,""]
[null,27,null,"",null,27,"",0,""]
[null,28,null,"",null,28,"",0,""]
[null,29,null,"",null,29,"",0,""]
[null,30,null,"",null,30,"",0,""]
[null,31,null,"",null,31,"",0,""]
[null,32,null,"",null,32,"",0,""]
[null,33,null,"",null,33,"",0,""]
[null,34,null,"",null,34,"",0,""]
[null,35,null,"",null,35,"",0,""]
[null,36,null,"",null,36,"",0,""]
[null,37,null,"",null,37,"",0,""]
[null,38,null,"",null,38,"",0,""]
[null,39,null,"",null,39,"",0,""]
[null,{"$f":"B64+1","v":40},null,"",null,40,"",0,""]
[null,"上記の者は本校在籍生徒で、表記大会に出場することを認めます。"]
[null,null,null,null,null,"平成　　　年　　　月　　　日"]
[null,null,null,{"$f":"本校名&\"高等学校長\"","v":"栗東高等学校長"},null,null,null,null,"印"]

{"sheet":"春Ｄ","index":3,"n_rows":90,"n_cols":10,"rows_kept":90,"cut":false,"hidden":false,"merged":[[75,8,76,8],[63,8,64,8],[65,8,66,8],[67,8,68,8],[69,8,70,8],[73,8,74,8],[1,1,1,8],[71,8,72,8],[2,1,2,8],[24,8,25,8],[18,8,19,8],[20,8,21,8],[30,8,31,8],[32,8,33,8],[38,8,39,8],[59,8,60,8],[47,1,47,8],[22,8,23,8],[26,8,27,8],[28,8,29,8],[57,8,58,8],[34,8,35,8],[12,8,13,8],[14,8,15,8],[16,8,17,8],[40,8,41,8],[61,8,62,8],[36,8,37,8],[85,8,86,8],[77,8,78,8],[79,8,80,8],[81,8,82,8],[83,8,84,8]]}
[null,null,null,null,null,null,null,{"$f":"J2","v":11}]
["編集不可（基礎データ入力！画面で開催年度を更新してください。）　　　→",{"$f":"\"平成\"&年度&\"年度  \"&\"滋賀県春季高校総体ﾃﾆｽ競技大会\"","v":"平成30年度  滋賀県春季高校総体ﾃﾆｽ競技大会"},null,null,null,null,null,null,null,{"$f":"VLOOKUP(本校名,選手Code入力!$P$6:$Q$41,2,0)","v":11}]
[null,"ダブルスの部（  男子 ・   女子）参加申込書"]
[]
[null,{"$f":"\"学校名   \"&本校名&\"高等学校\"","v":"学校名   栗東高等学校"},null,null,null,{"$f":"\"顧問名　　　\"&顧問名","v":"顧問名　　　志村　桃"}]
["基礎データ入力へ"]
[null,{"$f":"\"所在地　　　\"&所在地","v":"所在地　　　栗東市小野618"},null,null,null,{"$f":"\"電話番号　\"&電話番号","v":"電話番号　077-553-3350"}]
[null,"記入例"]
[null,3,"中野　忍",2,"秋季ベスト１６",3,210101,"中野　忍","高島"]
[]
[]
[null,"順位","氏名","学年","戦績","順位","ｺｰﾄﾞ","氏名","所属校"]
[null,1,null,{"$f":"IF(ISERROR(VLOOKUP(C13,名前コード,2,0)),\"\",VLOOKUP(C13,名前コード,2,0))","v":""},null,1,{"$f":"IF(C13=\"\",\"\",VLOOKUP(C13,名前,4,0))","v":""},{"$f":"C13","v":0},{"$f":"IF(C13=\"\",\"\",本校名)","v":""}]
[null,null,null,"",null,null,"",{"$f":"C14","v":0}]
[null,2,null,"",null,2,"",{"$f":"C15","v":0},{"$f":"IF(C15=\"\",\"\",本校名)","v":""}]
[null,null,null,"",null,null,"",{"$f":"C16","v":0}]
[null,3,null,"",null,3,"",{"$f":"C17","v":0},{"$f":"IF(C17=\"\",\"\",本校名)","v":""}]
[null,null,null,"",null,null,"",0]
[null,4,null,"",null,4,"",0,{"$f":"IF(C19=\"\",\"\",本校名)","v":""}]
[null,null,null,"",null,null,"",0]
[null,5,null,"",null,5,"",0,{"$f":"IF(C21=\"\",\"\",本校名)","v":""}]
[null,null,null,"",null,null,"",0]
[null,6,null,"",null,6,"",0,{"$f":"IF(C23=\"\",\"\",本校名)","v":""}]
[null,null,null,"",null,null,"",0]
[null,7,null,"",null,7,"",0,{"$f":"IF(C25=\"\",\"\",本校名)","v":""}]
[null,null,null,"",null,null,"",0]
[null,8,null,"",null,8,"",0,{"$f":"IF(C27=\"\",\"\",本校名)","v":""}]
[null,null,null,"",null,null,"",0]
[null,9,null,"",null,9,"",0,{"$f":"IF(C29=\"\",\"\",本校名)","v":""}]
[null,null,null,"",null,null,"",0]
[null,10,null,{"$f":"IF(ISERROR(VLOOKUP(C31,名前コード,2,0)),\"\",VLOOKUP(C31,名前コード,2,0))","v":""},null,10,{"$f":"IF(C31=\"\",\"\",VLOOKUP(C31,名前,4,0))","v":""},0,{"$f":"IF(C31=\"\",\"\",本校名)","v":""}]
[null,null,null,"",null,null,"",0]
[null,11,null,"",null,11,"",0,{"$f":"IF(C33=\"\",\"\",本校名)","v":""}]
[null,null,null,"",null,null,"",0]
[null,12,null,"",null,12,"",0,{"$f":"IF(C35=\"\",\"\",本校名)","v":""}]
[null,null,null,"",null,null,"",0]
[null,13,null,"",null,13,"",0,{"$f":"IF(C37=\"\",\"\",本校名)","v":""}]
[null,null,null,"",null,null,"",0]
[null,14,null,"",null,14,"",0,{"$f":"IF(C39=\"\",\"\",本校名)","v":""}]
[null,null,null,"",null,null,"",0]
[null,15,null,"",null,15,"",0,{"$f":"IF(C41=\"\",\"\",本校名)","v":""}]
[null,null,null,"",null,null,"",0]
[null,"上記の者は本校在籍生徒で、表記大会に出場することを認めます。"]
[null,null,null,null,{"$f":"春Ｓ!$F$33","v":"2018-03-29T15:46:44.310"}]
[null,null,null,null,{"$f":"本校名&\"高等学校長　 \"","v":"栗東高等学校長　 "},null,null,null,"印"]
[null,null,null,null,null,null,null,{"$f":"IF(C58=\"\",\"\",\"No.2/2\")","v":""}]
["編集不可（基礎データ入力！画面で操作してください。）　　　→",{"$f":"$B$2","v":"平成30年度  滋賀県春季高校総体ﾃﾆｽ競技大会"}]
["リストから種目を選んで下さい。→","ダブルスの部（  男子 ・   女子）参加申込書"]
[]
[null,{"$f":"\"学校名   \"&本校名&\"高等学校\"","v":"学校名   栗東高等学校"},null,null,null,{"$f":"\"顧問名　　　\"&顧問名","v":"顧問名　　　志村　桃"}]
["基礎データ入力へ"]
[null,{"$f":"\"所在地　　　\"&所在地","v":"所在地　　　栗東市小野618"},null,null,null,{"$f":"\"電話番号　\"&電話番号","v":"電話番号　077-553-3350"}]
[null,"記入例"]
[null,3,"中野　忍",2,"秋季ベスト１６",3,210101,"中野　忍","高島"]
[]
[]
[null,"順位","氏名","学年","戦績","順位","ｺｰﾄﾞ","氏名","所属校"]
[null,16,null,{"$f":"IF(ISERROR(VLOOKUP(C58,名前コード,2,0)),\"\",VLOOKUP(C58,名前コード,2,0))","v":""},null,16,{"$f":"IF(C58=\"\",\"\",VLOOKUP(C58,名前,4,0))","v":""},{"$f":"C58","v":0},{"$f":"IF(C58=\"\",\"\",本校名)","v":""}]
[null,null,null,{"$f":"IF(ISERROR(VLOOKUP(C59,名前コード,2,0)),\"\",VLOOKUP(C59,名前コード,2,0))","v":""},null,null,{"$f":"IF(C59=\"\",\"\",VLOOKUP(C59,名前,4,0))","v":""},{"$f":"C59","v":0}]
[null,17,null,{"$f":"IF(ISERROR(VLOOKUP(C60,名前コード,2,0)),\"\",VLOOKUP(C60,名前コード,2,0))","v":""},null,17,{"$f":"IF(C60=\"\",\"\",VLOOKUP(C60,名前,4,0))","v":""},{"$f":"C60","v":0},{"$f":"IF(C60=\"\",\"\",本校名)","v":""}]
[null,null,null,{"$f":"IF(ISERROR(VLOOKUP(C61,名前コード,2,0)),\"\",VLOOKUP(C61,名前コード,2,0))","v":""},null,null,{"$f":"IF(C61=\"\",\"\",VLOOKUP(C61,名前,4,0))","v":""},{"$f":"C61","v":0}]
[null,18,null,{"$f":"IF(ISERROR(VLOOKUP(C62,名前コード,2,0)),\"\",VLOOKUP(C62,名前コード,2,0))","v":""},null,18,{"$f":"IF(C62=\"\",\"\",VLOOKUP(C62,名前,4,0))","v":""},{"$f":"C62","v":0},{"$f":"IF(C62=\"\",\"\",本校名)","v":""}]
[null,null,null,"",null,null,"",0]
[null,19,null,"",null,19,"",0,{"$f":"IF(C64=\"\",\"\",本校名)","v":""}]
[null,null,null,"",null,null,"",0]
[null,20,null,"",null,20,"",0,{"$f":"IF(C66=\"\",\"\",本校名)","v":""}]
[null,null,null,"",null,null,"",0]
[null,21,null,"",null,21,"",0,{"$f":"IF(C68=\"\",\"\",本校名)","v":""}]
[null,null,null,"",null,null,"",0]
[null,22,null,"",null,22,"",0,{"$f":"IF(C70=\"\",\"\",本校名)","v":""}]
[null,null,null,"",null,null,"",0]
[null,23,null,"",null,23,"",0,{"$f":"IF(C72=\"\",\"\",本校名)","v":""}]
[null,null,null,"",null,null,"",0]
[null,24,null,"",null,24,"",0,{"$f":"IF(C74=\"\",\"\",本校名)","v":""}]
[null,null,null,"",null,null,"",0]
[null,25,null,"",null,25,"",0,{"$f":"IF(C76=\"\",\"\",本校名)","v":""}]
[null,null,null,"",null,null,"",0]
[null,26,null,"",null,26,"",0,{"$f":"IF(C78=\"\",\"\",本校名)","v":""}]
[null,null,null,"",null,null,"",0]
[null,27,null,"",null,27,"",0,{"$f":"IF(C80=\"\",\"\",本校名)","v":""}]
[null,null,null,"",null,null,"",0]
[null,28,null,"",null,28,"",0,{"$f":"IF(C82=\"\",\"\",本校名)","v":""}]
[null,null,null,"",null,null,"",0]
[null,29,null,"",null,29,"",0,{"$f":"IF(C84=\"\",\"\",本校名)","v":""}]
[null,null,null,"",null,null,"",0]
[null,30,null,"",null,30,"",0,{"$f":"IF(C86=\"\",\"\",本校名)","v":""}]
[null,null,null,"",null,null,"",0]
[null,"上記の者は本校在籍生徒で、表記大会に出場することを認めます。"]
[null,null,null,null,"平成　　　年　　　月　　　日"]
[null,null,null,null,{"$f":"本校名&\"高等学校長\"","v":"栗東高等学校長"},null,null,null,"印"]

{"sheet":"春団","index":4,"n_rows":21,"n_cols":17,"rows_kept":21,"cut":false,"hidden":false,"merged":[[12,1,12,9],[13,1,13,9],[19,0,19,12],[0,0,0,12],[1,0,1,12],[17,0,17,12],[8,1,8,9],[3,0,3,12],[9,1,9,9],[10,1,10,9],[11,1,11,9]]}
[{"$f":"\"平成\"&年度&\"年度　\"&\"滋賀県春季高校総体 テニス競技大会\"","v":"平成30年度　滋賀県春季高校総体 テニス競技大会"},null,null,null,null,null,null,null,null,null,null,null,null,{"$f":"VLOOKUP(本校名,選手Code入力!P6:Q41,2,0)","v":11}]
["団体戦の部（男子・女子）参加申込書"]
[null,null,null,null,null,null,null,null,null,null,null,null,{"$f":"N1","v":11}]
[{"$f":"\"学校名   \"&本校名&\"       高等学校\"","v":"学校名   栗東       高等学校"}]
[{"$f":"\"監督名    \"&harukantoku","v":"監督名    志村　桃"},null,null,null,null,null,null,null,null,null,null,null,null,null,null,null,"↓このボタンを押す（クリックする）と、新規ファイルに値複写されます。"]
[{"$f":"\"所在地  \"&所在地","v":"所在地  栗東市小野618"}]
[{"$f":"\"電話番号  \"&電話番号","v":"電話番号  077-553-3350"}]
[]
["順位","ｺｰﾄﾞ",null,null,null,null,null,null,null,null,"選手氏名","学年","戦績（ポイント）"]
[1,{"$f":"IF(K10=\"\",\"\",VLOOKUP(K10,名前,4,0))","v":""},null,null,null,null,null,null,null,null,null,{"$f":"IF(ISERROR(VLOOKUP(K10,名前コード,2,0)),\"\",VLOOKUP(K10,名前コード,2,0))","v":""}]
[2,{"$f":"IF(K11=\"\",\"\",VLOOKUP(K11,名前,4,0))","v":""},null,null,null,null,null,null,null,null,null,{"$f":"IF(ISERROR(VLOOKUP(K11,名前コード,2,0)),\"\",VLOOKUP(K11,名前コード,2,0))","v":""}]
[3,{"$f":"IF(K12=\"\",\"\",VLOOKUP(K12,名前,4,0))","v":""},null,null,null,null,null,null,null,null,null,{"$f":"IF(ISERROR(VLOOKUP(K12,名前コード,2,0)),\"\",VLOOKUP(K12,名前コード,2,0))","v":""}]
[4,{"$f":"IF(K13=\"\",\"\",VLOOKUP(K13,名前,4,0))","v":""},null,null,null,null,null,null,null,null,null,{"$f":"IF(ISERROR(VLOOKUP(K13,名前コード,2,0)),\"\",VLOOKUP(K13,名前コード,2,0))","v":""}]
[5,{"$f":"IF(K14=\"\",\"\",VLOOKUP(K14,名前,4,0))","v":""},null,null,null,null,null,null,null,null,null,{"$f":"IF(ISERROR(VLOOKUP(K14,名前コード,2,0)),\"\",VLOOKUP(K14,名前コード,2,0))","v":""}]
[]
[]
[]
["上記の者は本校在籍生徒で、当大会に出場することを認めます。"]
[null,null,null,null,null,null,null,null,null,null,{"$f":"春Ｓ!F33","v":"2018-03-29T15:46:44.310"}]
[{"$f":"春Ｄ!E45","v":"栗東高等学校長　 "}]
[null,null,null,null,null,null,null,null,null,null,null,"印"]

{"sheet":"夏Jr.","index":5,"n_rows":31,"n_cols":10,"rows_kept":31,"cut":false,"hidden":false,"merged":[[1,1,1,8],[2,1,2,8],[31,1,31,8],[4,5,4,8],[9,2,9,4]]}
[null,null,null,null,null,null,null,null,{"$f":"J2","v":11}]
["編集不可（基礎データ入力！画面で開催年度を更新してください。）　　　→",{"$f":"\"平成\"&年度&\"年度  \"&\"滋賀県夏季ジュニアテニス選手権大会\"","v":"平成30年度  滋賀県夏季ジュニアテニス選手権大会"},null,null,null,null,null,null,null,{"$f":"VLOOKUP(本校名,選手Code入力!$P$6:$Q$41,2,0)","v":11}]
[null,"１７歳以下　シングルスの部（　男子　・　女子）参加申込書"]
[]
[null,{"$f":"\"学校名   \"&本校名&\"高等学校\"","v":"学校名   栗東高等学校"},null,null,null,{"$f":"\"顧問名　　　\"&顧問名&\" 印\"","v":"顧問名　　　志村　桃 印"}]
["基礎データ入力へ"]
[null,{"$f":"\"所在地　　　\"&所在地","v":"所在地　　　栗東市小野618"},null,null,null,{"$f":"\"電話番号　\"&電話番号","v":"電話番号　077-553-3350"}]
[null,"記入例（未登録選手のデータ＜生年月日含む＞を総務に送信してください。）"]
[null,3,"中野　忍",2,"秋季ベスト１６",3,210199,"中野　忍","高島"]
[null,null,{"$f":"COUNTA(C12:C31)*2600","v":0}]
[null,"順位","選手氏名","学年","戦績","順位","コード","選手氏名","所属校"]
[null,1,null,{"$f":"IF(ISERROR(VLOOKUP(H12,名前コード,2,0)),\"\",VLOOKUP(H12,名前コード,2,0))","v":""},null,1,{"$f":"IF(C12=\"\",\"\",VLOOKUP(C12,名前,4,0))","v":""},{"$f":"C12","v":0},{"$f":"IF(C12=\"\",\"\",本校名&\"高\")","v":""}]
[null,2,null,"",null,2,"",0,""]
[null,3,null,"",null,3,"",0,""]
[null,4,null,"",null,4,"",0,""]
[null,5,null,"",null,5,"",0,""]
[null,6,null,"",null,6,"",0,""]
[null,7,null,"",null,7,"",0,""]
[null,8,null,"",null,8,"",0,""]
[null,9,null,"",null,9,"",0,""]
[null,10,null,"",null,10,"",0,""]
[null,11,null,"",null,11,"",0,""]
[null,12,null,"",null,12,"",0,""]
[null,13,null,"",null,13,"",0,""]
[null,14,null,"",null,14,"",0,""]
[null,15,null,"",null,15,"",0,""]
[null,16,null,{"$f":"IF(ISERROR(VLOOKUP(H27,名前コード,2,0)),\"\",VLOOKUP(H27,名前コード,2,0))","v":""},null,16,{"$f":"IF(C27=\"\",\"\",VLOOKUP(C27,名前,4,0))","v":""},{"$f":"C27","v":0},{"$f":"IF(C27=\"\",\"\",本校名&\"高\")","v":""}]
[null,17,null,{"$f":"IF(ISERROR(VLOOKUP(H28,名前コード,2,0)),\"\",VLOOKUP(H28,名前コード,2,0))","v":""},null,17,{"$f":"IF(C28=\"\",\"\",VLOOKUP(C28,名前,4,0))","v":""},{"$f":"C28","v":0},{"$f":"IF(C28=\"\",\"\",本校名&\"高\")","v":""}]
[null,18,null,{"$f":"IF(ISERROR(VLOOKUP(H29,名前コード,2,0)),\"\",VLOOKUP(H29,名前コード,2,0))","v":""},null,18,{"$f":"IF(C29=\"\",\"\",VLOOKUP(C29,名前,4,0))","v":""},{"$f":"C29","v":0},{"$f":"IF(C29=\"\",\"\",本校名&\"高\")","v":""}]
[null,19,null,{"$f":"IF(ISERROR(VLOOKUP(H30,名前コード,2,0)),\"\",VLOOKUP(H30,名前コード,2,0))","v":""},null,19,{"$f":"IF(C30=\"\",\"\",VLOOKUP(C30,名前,4,0))","v":""},{"$f":"C30","v":0},{"$f":"IF(C30=\"\",\"\",本校名&\"高\")","v":""}]
[null,20,null,{"$f":"IF(ISERROR(VLOOKUP(H31,名前コード,2,0)),\"\",VLOOKUP(H31,名前コード,2,0))","v":""},null,20,{"$f":"IF(C31=\"\",\"\",VLOOKUP(C31,名前,4,0))","v":""},{"$f":"C31","v":0},{"$f":"IF(C31=\"\",\"\",本校名&\"高\")","v":""}]

{"sheet":"近予Ｓ","index":6,"n_rows":102,"n_cols":9,"rows_kept":102,"cut":false,"hidden":false,"merged":[[1,1,1,8],[2,1,2,8],[31,1,31,8],[36,1,36,8],[99,1,99,8],[37,1,37,8],[66,1,66,8],[69,1,69,8],[70,1,70,8],[4,5,4,8],[3,1,4,4]]}
[null,"（兼　県民体育大会高校の部）",null,null,null,null,null,{"$f":"VLOOKUP(本校名,選手Code入力!$P$6:$Q$41,2,0)","v":11}]
["編集不可（基礎データ入力！画面で開催年度を更新してください。）　　　→",{"$f":"\"平成\"&年度&\"年度  \"&\"近畿高校ﾃﾆｽ大会滋賀県予選会\"","v":"平成30年度  近畿高校ﾃﾆｽ大会滋賀県予選会"}]
[null,"シングルスの部（　男子　・　女子）参加申込書"]
[null,{"$f":"\"学校名   \"&本校名&\"高等学校\"","v":"学校名   栗東高等学校"}]
[null,null,null,null,null,{"$f":"\"顧問名  \"&顧問名","v":"顧問名  志村　桃"}]
["基礎データ入力へ"]
[null,{"$f":"\"所在地　　　\"&所在地","v":"所在地　　　栗東市小野618"},null,null,null,{"$f":"\"電話番号　\"&電話番号","v":"電話番号　077-553-3350"}]
[null,"記入例"]
[null,3,"中野　忍",2,"秋季ベスト１６",3,210101,"中野　忍","高島"]
[]
[null,"順位","選手氏名","学年","戦績","順位","コード","選手氏名","所属校"]
[null,1,null,{"$f":"IF(ISERROR(VLOOKUP(H12,名前コード,2,0)),\"\",VLOOKUP(H12,名前コード,2,0))","v":""},null,1,{"$f":"IF(C12=\"\",\"\",VLOOKUP(C12,名前,4,0))","v":""},{"$f":"C12","v":0},{"$f":"IF(C12=\"\",\"\",本校名)","v":""}]
[null,2,null,{"$f":"IF(ISERROR(VLOOKUP(H13,名前コード,2,0)),\"\",VLOOKUP(H13,名前コード,2,0))","v":""},null,2,{"$f":"IF(C13=\"\",\"\",VLOOKUP(C13,名前,4,0))","v":""},{"$f":"C13","v":0},{"$f":"IF(C13=\"\",\"\",本校名)","v":""}]
[null,3,null,{"$f":"IF(ISERROR(VLOOKUP(H14,名前コード,2,0)),\"\",VLOOKUP(H14,名前コード,2,0))","v":""},null,3,"",0,""]
[null,4,null,"",null,4,"",0,""]
[null,5,null,"",null,5,"",0,""]
[null,6,null,"",null,6,"",0,""]
[null,7,null,"",null,7,"",0,""]
[null,8,null,"",null,8,"",0,""]
[null,9,null,"",null,9,"",0,""]
[null,10,null,"",null,10,"",0,""]
[null,11,null,"",null,11,"",0,""]
[null,12,null,"",null,12,"",0,""]
[null,13,null,"",null,13,"",0,""]
[null,14,null,"",null,14,"",0,""]
[null,15,null,"",null,15,"",0,""]
[null,16,null,"",null,16,"",0,""]
[null,17,null,"",null,17,"",0,""]
[null,18,null,"",null,18,"",0,""]
[null,19,null,"",null,19,"",0,""]
[null,20,null,"",null,20,"",0,""]
[null,"上記の者は本校在籍生徒で、表記大会に出場することを認めます。"]
[null,null,null,null,null,"平成29　年　7　月　28日"]
[null,null,null,{"$f":"春Ｓ!$D$34","v":"栗東高等学校長　　 "},null,null,null,null,"印"]
[]
[null,{"$f":"B1","v":"（兼　県民体育大会高校の部）"},null,null,null,null,null,{"$f":"IF(C47=\"\",\"\",\"No.2/2\")","v":""}]
["編集不可（基礎データ入力！画面で操作してください。）→",{"$f":"$B$2","v":"平成30年度  近畿高校ﾃﾆｽ大会滋賀県予選会"}]
["リストから種目を選んで下さい。　　　　　　　　　　　→","シングルスの部（　男子　・　女子）参加申込書"]
[]
[null,{"$f":"\"学校名   \"&本校名&\"高等学校\"","v":"学校名   栗東高等学校"},null,null,null,{"$f":"\"顧問名　　　\"&顧問名","v":"顧問名　　　志村　桃"}]
["基礎データ入力へ"]
[null,{"$f":"\"所在地　　　\"&所在地","v":"所在地　　　栗東市小野618"},null,null,null,{"$f":"\"電話番号　\"&電話番号","v":"電話番号　077-553-3350"}]
[null,"記入例"]
[null,3,"中野　忍",2,"秋季ベスト１６",3,210101,"中野　忍","高島"]
[]
[null,"順位","選手氏名","学年","戦績","順位","コード","選手氏名","所属校"]
[null,21,null,{"$f":"IF(ISERROR(VLOOKUP(H47,名前コード,2,0)),\"\",VLOOKUP(H47,名前コード,2,0))","v":""},null,{"$f":"B47","v":21},{"$f":"IF(C47=\"\",\"\",VLOOKUP(C47,名前,4,0))","v":""},{"$f":"C47","v":0},{"$f":"IF(C47=\"\",\"\",本校名)","v":""}]
[null,{"$f":"B47+1","v":22},null,{"$f":"IF(ISERROR(VLOOKUP(H48,名前コード,2,0)),\"\",VLOOKUP(H48,名前コード,2,0))","v":""},null,{"$f":"B48","v":22},{"$f":"IF(C48=\"\",\"\",VLOOKUP(C48,名前,4,0))","v":""},{"$f":"C48","v":0},{"$f":"IF(C48=\"\",\"\",本校名)","v":""}]
[null,{"$f":"B48+1","v":23},null,{"$f":"IF(ISERROR(VLOOKUP(H49,名前コード,2,0)),\"\",VLOOKUP(H49,名前コード,2,0))","v":""},null,{"$f":"B49","v":23},"",0,""]
[null,24,null,"",null,24,"",0,""]
[null,25,null,"",null,25,"",0,""]
[null,26,null,"",null,26,"",0,""]
[null,27,null,"",null,27,"",0,""]
[null,28,null,"",null,28,"",0,""]
[null,29,null,"",null,29,"",0,""]
[null,30,null,"",null,30,"",0,""]
[null,31,null,"",null,31,"",0,""]
[null,32,null,"",null,32,"",0,""]
[null,33,null,"",null,33,"",0,""]
[null,34,null,"",null,34,"",0,""]
[null,35,null,"",null,35,"",0,""]
[null,36,null,"",null,36,"",0,""]
[null,37,null,"",null,37,"",0,""]
[null,38,null,"",null,38,"",0,""]
[null,39,null,"",null,39,"",0,""]
[null,{"$f":"B65+1","v":40},null,"",null,40,"",0,""]
[null,"上記の者は本校在籍生徒で、表記大会に出場することを認めます。"]
[null,null,null,null,null,"平成　　　年　　　月　　　日"]
[null,null,null,{"$f":"本校名&\"高等学校長\"","v":"栗東高等学校長"},null,null,null,null,"印"]
["編集不可（基礎データ入力！画面で操作してください。）→",{"$f":"$B$2","v":"平成30年度  近畿高校ﾃﾆｽ大会滋賀県予選会"}]
["リストから種目を選んで下さい。　　　　　　　　　　　→","シングルスの部（　男子　・　女子）参加申込書"]
[]
[null,{"$f":"\"学校名   \"&本校名&\"高等学校\"","v":"学校名   栗東高等学校"},null,null,null,{"$f":"\"顧問名　　　\"&顧問名","v":"顧問名　　　志村　桃"}]
["基礎データ入力へ"]
[null,{"$f":"\"所在地　　　\"&所在地","v":"所在地　　　栗東市小野618"},null,null,null,{"$f":"\"電話番号　\"&電話番号","v":"電話番号　077-553-3350"}]
[null,"記入例"]
[null,3,"中野　忍",3,"秋季ベスト１６",3,310101,"中野　忍","高島"]
[]
[null,"順位","選手氏名","学年","戦績","順位","コード","選手氏名","所属校"]
[null,{"$f":"B66+1","v":41},null,{"$f":"IF(ISERROR(VLOOKUP(H80,名前コード,2,0)),\"\",VLOOKUP(H80,名前コード,2,0))","v":""},null,{"$f":"B80","v":41},{"$f":"IF(C80=\"\",\"\",VLOOKUP(C80,名前,4,0))","v":""},{"$f":"C80","v":0},{"$f":"IF(C80=\"\",\"\",本校名)","v":""}]
[null,{"$f":"B80+1","v":42},null,{"$f":"IF(ISERROR(VLOOKUP(H81,名前コード,2,0)),\"\",VLOOKUP(H81,名前コード,2,0))","v":""},null,{"$f":"B81","v":42},{"$f":"IF(C81=\"\",\"\",VLOOKUP(C81,名前,4,0))","v":""},{"$f":"C81","v":0},{"$f":"IF(C81=\"\",\"\",本校名)","v":""}]
[null,{"$f":"B81+1","v":43},null,{"$f":"IF(ISERROR(VLOOKUP(H82,名前コード,2,0)),\"\",VLOOKUP(H82,名前コード,2,0))","v":""},null,{"$f":"B82","v":43},"",0,""]
[null,44,null,"",null,44,"",0,""]
[null,45,null,"",null,45,"",0,""]
[null,46,null,"",null,46,"",0,""]
[null,47,null,"",null,47,"",0,""]
[null,48,null,"",null,48,"",0,""]
[null,49,null,"",null,49,"",0,""]
[null,50,null,"",null,50,"",0,""]
[null,51,null,"",null,51,"",0,""]
[null,52,null,"",null,52,"",0,""]
[null,53,null,"",null,53,"",0,""]
[null,54,null,"",null,54,"",0,""]
[null,55,null,"",null,55,"",0,""]
[null,56,null,"",null,56,"",0,""]
[null,57,null,"",null,57,"",0,""]
[null,58,null,"",null,58,"",0,""]
[null,59,null,"",null,59,"",0,""]
[null,{"$f":"B98+1","v":60},null,"",null,60,"",0,""]
[null,"上記の者は本校在籍生徒で、表記大会に出場することを認めます。"]
[null,null,null,null,null,"平成　　　年　　　月　　　日"]
[null,null,null,{"$f":"本校名&\"高等学校長\"","v":"栗東高等学校長"},null,null,null,null,"印"]

{"sheet":"近予Ｄ","index":7,"n_rows":90,"n_cols":9,"rows_kept":90,"cut":false,"hidden":false,"merged":[[57,8,58,8],[59,8,60,8],[61,8,62,8],[63,8,64,8],[69,8,70,8],[71,8,72,8],[73,8,74,8],[75,8,76,8],[65,8,66,8],[67,8,68,8],[85,8,86,8],[77,8,78,8],[79,8,80,8],[81,8,82,8],[83,8,84,8],[20,8,21,8],[22,8,23,8],[34,8,35,8],[36,8,37,8],[38,8,39,8],[40,8,41,8],[47,1,47,8],[24,8,25,8],[26,8,27,8],[28,8,29,8],[30,8,31,8],[32,8,33,8],[44,4,44,7],[18,8,19,8],[1,1,1,8],[2,1,2,8],[12,8,13,8],[14,8,15,8],[16,8,17,8],[4,5,4,8],[3,1,4,4]]}
[null,"（兼　県民体育大会高校の部）",null,null,null,null,null,{"$f":"VLOOKUP(本校名,選手Code入力!$P$6:$Q$41,2,0)","v":11}]
["編集不可（基礎データ入力！画面で開催年度を更新してください。）　　　→",{"$f":"\"平成\"&年度&\"年度  \"&\"近畿高校ﾃﾆｽ大会滋賀県予選会\"","v":"平成30年度  近畿高校ﾃﾆｽ大会滋賀県予選会"}]
[null,"ダブルスの部（  男子 ・   女子）参加申込書"]
[null,{"$f":"\"学校名   \"&本校名&\"高等学校\"","v":"学校名   栗東高等学校"}]
[null,null,null,null,null,{"$f":"\"顧問名 \"&顧問名","v":"顧問名 志村　桃"}]
["基礎データ入力へ"]
[null,{"$f":"\"所在地　　　\"&所在地","v":"所在地　　　栗東市小野618"},null,null,null,{"$f":"\"電話番号　\"&電話番号","v":"電話番号　077-553-3350"}]
[null,"記入例"]
[null,3,"中野　忍",2,"秋季ベスト１６",3,210101,"中野　忍","高島"]
[]
[]
[null,"順位","氏名","学年","戦績","順位","ｺｰﾄﾞ","氏名","所属校"]
[null,1,null,{"$f":"IF(ISERROR(VLOOKUP(C13,名前コード,2,0)),\"\",VLOOKUP(C13,名前コード,2,0))","v":""},null,1,{"$f":"IF(C13=\"\",\"\",VLOOKUP(C13,名前,4,0))","v":""},{"$f":"C13","v":0},{"$f":"IF(C13=\"\",\"\",本校名)","v":""}]
[null,null,null,{"$f":"IF(ISERROR(VLOOKUP(C14,名前コード,2,0)),\"\",VLOOKUP(C14,名前コード,2,0))","v":""},null,null,{"$f":"IF(C14=\"\",\"\",VLOOKUP(C14,名前,4,0))","v":""},{"$f":"C14","v":0}]
[null,2,null,{"$f":"IF(ISERROR(VLOOKUP(C15,名前コード,2,0)),\"\",VLOOKUP(C15,名前コード,2,0))","v":""},null,2,{"$f":"IF(C15=\"\",\"\",VLOOKUP(C15,名前,4,0))","v":""},{"$f":"C15","v":0},{"$f":"IF(C15=\"\",\"\",本校名)","v":""}]
[null,null,null,{"$f":"IF(ISERROR(VLOOKUP(C16,名前コード,2,0)),\"\",VLOOKUP(C16,名前コード,2,0))","v":""},null,null,{"$f":"IF(C16=\"\",\"\",VLOOKUP(C16,名前,4,0))","v":""},{"$f":"C16","v":0}]
[null,3,null,{"$f":"IF(ISERROR(VLOOKUP(C17,名前コード,2,0)),\"\",VLOOKUP(C17,名前コード,2,0))","v":""},null,3,{"$f":"IF(C17=\"\",\"\",VLOOKUP(C17,名前,4,0))","v":""},{"$f":"C17","v":0},{"$f":"IF(C17=\"\",\"\",本校名)","v":""}]
[null,null,null,"",null,null,"",0]
[null,4,null,"",null,4,"",0,{"$f":"IF(C19=\"\",\"\",本校名)","v":""}]
[null,null,null,"",null,null,"",0]
[null,5,null,"",null,5,"",0,{"$f":"IF(C21=\"\",\"\",本校名)","v":""}]
[null,null,null,"",null,null,"",0]
[null,6,null,"",null,6,"",0,{"$f":"IF(C23=\"\",\"\",本校名)","v":""}]
[null,null,null,"",null,null,"",0]
[null,7,null,"",null,7,"",0,{"$f":"IF(C25=\"\",\"\",本校名)","v":""}]
[null,null,null,"",null,null,"",0]
[null,8,null,"",null,8,"",0,{"$f":"IF(C27=\"\",\"\",本校名)","v":""}]
[null,null,null,"",null,null,"",0]
[null,9,null,"",null,9,"",0,{"$f":"IF(C29=\"\",\"\",本校名)","v":""}]
[null,null,null,"",null,null,"",0]
[null,10,null,"",null,10,"",0,{"$f":"IF(C31=\"\",\"\",本校名)","v":""}]
[null,null,null,"",null,null,"",0]
[null,11,null,"",null,11,"",0,{"$f":"IF(C33=\"\",\"\",本校名)","v":""}]
[null,null,null,"",null,null,"",0]
[null,12,null,"",null,12,"",0,{"$f":"IF(C35=\"\",\"\",本校名)","v":""}]
[null,null,null,"",null,null,"",0]
[null,13,null,"",null,13,"",0,{"$f":"IF(C37=\"\",\"\",本校名)","v":""}]
[null,null,null,"",null,null,"",0]
[null,14,null,"",null,14,"",0,{"$f":"IF(C39=\"\",\"\",本校名)","v":""}]
[null,null,null,"",null,null,"",0]
[null,15,null,"",null,15,"",0,{"$f":"IF(C41=\"\",\"\",本校名)","v":""}]
[null,null,null,"",null,null,"",0]
[null,"上記の者は本校在籍生徒で、表記大会に出場することを認めます。"]
[null,null,null,null,"平成29　年　7　月　28日"]
[null,null,null,null,{"$f":"近予Ｓ!$D$34","v":"栗東高等学校長　　 "},null,null,null,"印"]
[null,null,null,null,null,null,null,{"$f":"IF(C58=\"\",\"\",\"No.2/2\")","v":""}]
["編集不可（基礎データ入力！画面で操作してください。）　　　→",{"$f":"$B$2","v":"平成30年度  近畿高校ﾃﾆｽ大会滋賀県予選会"}]
["リストから種目を選んで下さい。→","ダブルスの部（  男子 ・   女子）参加申込書"]
[]
[null,{"$f":"\"学校名   \"&本校名&\"高等学校\"","v":"学校名   栗東高等学校"},null,null,null,{"$f":"\"顧問名　　　\"&顧問名","v":"顧問名　　　志村　桃"}]
["基礎データ入力へ"]
[null,{"$f":"\"所在地　　　\"&所在地","v":"所在地　　　栗東市小野618"},null,null,null,{"$f":"\"電話番号　\"&電話番号","v":"電話番号　077-553-3350"}]
[null,"記入例"]
[null,3,"中野　忍",2,"秋季ベスト１６",3,210101,"中野　忍","高島"]
[]
[]
[null,"順位","氏名","学年","戦績","順位","ｺｰﾄﾞ","氏名","所属校"]
[null,16,null,{"$f":"IF(ISERROR(VLOOKUP(C58,名前コード,2,0)),\"\",VLOOKUP(C58,名前コード,2,0))","v":""},null,16,{"$f":"IF(C58=\"\",\"\",VLOOKUP(C58,名前,4,0))","v":""},{"$f":"C58","v":0},{"$f":"IF(C58=\"\",\"\",本校名)","v":""}]
[null,null,null,{"$f":"IF(ISERROR(VLOOKUP(C59,名前コード,2,0)),\"\",VLOOKUP(C59,名前コード,2,0))","v":""},null,null,{"$f":"IF(C59=\"\",\"\",VLOOKUP(C59,名前,4,0))","v":""},{"$f":"C59","v":0}]
[null,17,null,{"$f":"IF(ISERROR(VLOOKUP(C60,名前コード,2,0)),\"\",VLOOKUP(C60,名前コード,2,0))","v":""},null,17,{"$f":"IF(C60=\"\",\"\",VLOOKUP(C60,名前,4,0))","v":""},{"$f":"C60","v":0},{"$f":"IF(C60=\"\",\"\",本校名)","v":""}]
[null,null,null,{"$f":"IF(ISERROR(VLOOKUP(C61,名前コード,2,0)),\"\",VLOOKUP(C61,名前コード,2,0))","v":""},null,null,{"$f":"IF(C61=\"\",\"\",VLOOKUP(C61,名前,4,0))","v":""},{"$f":"C61","v":0}]
[null,18,null,{"$f":"IF(ISERROR(VLOOKUP(C62,名前コード,2,0)),\"\",VLOOKUP(C62,名前コード,2,0))","v":""},null,18,{"$f":"IF(C62=\"\",\"\",VLOOKUP(C62,名前,4,0))","v":""},{"$f":"C62","v":0},{"$f":"IF(C62=\"\",\"\",本校名)","v":""}]
[null,null,null,"",null,null,"",0]
[null,19,null,"",null,19,"",0,{"$f":"IF(C64=\"\",\"\",本校名)","v":""}]
[null,null,null,"",null,null,"",0]
[null,20,null,"",null,20,"",0,{"$f":"IF(C66=\"\",\"\",本校名)","v":""}]
[null,null,null,"",null,null,"",0]
[null,21,null,"",null,21,"",0,{"$f":"IF(C68=\"\",\"\",本校名)","v":""}]
[null,null,null,"",null,null,"",0]
[null,22,null,"",null,22,"",0,{"$f":"IF(C70=\"\",\"\",本校名)","v":""}]
[null,null,null,"",null,null,"",0]
[null,23,null,"",null,23,"",0,{"$f":"IF(C72=\"\",\"\",本校名)","v":""}]
[null,null,null,"",null,null,"",0]
[null,24,null,"",null,24,"",0,{"$f":"IF(C74=\"\",\"\",本校名)","v":""}]
[null,null,null,"",null,null,"",0]
[null,25,null,"",null,25,"",0,{"$f":"IF(C76=\"\",\"\",本校名)","v":""}]
[null,null,null,"",null,null,"",0]
[null,26,null,"",null,26,"",0,{"$f":"IF(C78=\"\",\"\",本校名)","v":""}]
[null,null,null,"",null,null,"",0]
[null,27,null,"",null,27,"",0,{"$f":"IF(C80=\"\",\"\",本校名)","v":""}]
[null,null,null,"",null,null,"",0]
[null,28,null,"",null,28,"",0,{"$f":"IF(C82=\"\",\"\",本校名)","v":""}]
[null,null,null,"",null,null,"",0]
[null,29,null,"",null,29,"",0,{"$f":"IF(C84=\"\",\"\",本校名)","v":""}]
[null,null,null,"",null,null,"",0]
[null,30,null,"",null,30,"",0,{"$f":"IF(C86=\"\",\"\",本校名)","v":""}]
[null,null,null,"",null,null,"",0]
[null,"上記の者は本校在籍生徒で、表記大会に出場することを認めます。"]
[null,null,null,null,"平成　　　年　　　月　　　日"]
[null,null,null,null,{"$f":"本校名&\"高等学校長\"","v":"栗東高等学校長"},null,null,null,"印"]

{"sheet":"秋Ｓ","index":8,"n_rows":68,"n_cols":10,"rows_kept":68,"cut":false,"hidden":false,"merged":[[36,1,36,8],[65,1,65,8],[1,1,1,8],[2,1,2,8],[31,1,31,8],[35,1,35,8]]}
[]
["編集不可（基礎データ入力！画面で開催年度を更新してください。）　　　→",{"$f":"\"平成\"&年度&\"年度  \"&\"滋賀県秋季高校総体ﾃﾆｽ競技大会\"","v":"平成30年度  滋賀県秋季高校総体ﾃﾆｽ競技大会"},null,null,null,null,null,null,null,{"$f":"VLOOKUP(本校名,選手Code入力!$P$6:$Q$41,2,0)","v":11}]
[null,"シングルスの部（　男子　・　女子）参加申込書"]
[]
[null,{"$f":"\"学校名   \"&本校名&\"高等学校\"","v":"学校名   栗東高等学校"},null,null,null,{"$f":"\"顧問名　　　\"&顧問名","v":"顧問名　　　志村　桃"}]
["基礎データ入力へ"]
[null,{"$f":"\"所在地　　　\"&所在地","v":"所在地　　　栗東市小野618"},null,null,null,{"$f":"\"電話番号　\"&電話番号","v":"電話番号　077-553-3350"}]
[null,"記入例"]
[null,3,"中野　忍",2,"秋季ベスト１６",3,210101,"中野　忍","高島"]
[]
[null,"順位","選手氏名","学年","戦績","順位","コード","選手氏名","所属校"]
[null,1,null,{"$f":"IF(ISERROR(VLOOKUP(H12,名前コード,2,0)),\"\",VLOOKUP(H12,名前コード,2,0))","v":""},null,1,{"$f":"IF(C12=\"\",\"\",VLOOKUP(C12,名前,4,0))","v":""},{"$f":"C12","v":0},{"$f":"IF(C12=\"\",\"\",本校名)","v":""}]
[null,2,null,{"$f":"IF(ISERROR(VLOOKUP(H13,名前コード,2,0)),\"\",VLOOKUP(H13,名前コード,2,0))","v":""},null,2,{"$f":"IF(C13=\"\",\"\",VLOOKUP(C13,名前,4,0))","v":""},{"$f":"C13","v":0},{"$f":"IF(C13=\"\",\"\",本校名)","v":""}]
[null,3,null,{"$f":"IF(ISERROR(VLOOKUP(H14,名前コード,2,0)),\"\",VLOOKUP(H14,名前コード,2,0))","v":""},null,3,"",0,""]
[null,4,null,"",null,4,"",0,""]
[null,5,null,"",null,5,"",0,""]
[null,6,null,"",null,6,"",0,""]
[null,7,null,"",null,7,"",0,""]
[null,8,null,"",null,8,"",0,""]
[null,9,null,"",null,9,"",0,""]
[null,10,null,"",null,10,"",0,""]
[null,11,null,"",null,11,"",0,""]
[null,12,null,"",null,12,"",0,""]
[null,13,null,"",null,13,"",0,""]
[null,14,null,"",null,14,"",0,""]
[null,15,null,"",null,15,"",0,""]
[null,16,null,"",null,16,"",0,""]
[null,17,null,"",null,17,"",0,""]
[null,18,null,"",null,18,"",0,""]
[null,19,null,"",null,19,"",0,""]
[null,20,null,"",null,20,"",0,""]
[null,"上記の者は本校在籍生徒で、表記大会に出場することを認めます。"]
[null,null,null,null,null,"平成29年　10　月　2　日"]
[null,null,null,{"$f":"近予Ｄ!$E$45","v":"栗東高等学校長　　 "},null,null,null,null,"印"]
[]
["編集不可（基礎データ入力！画面で操作してください。）→",{"$f":"$B$2","v":"平成30年度  滋賀県秋季高校総体ﾃﾆｽ競技大会"}]
["リストから種目を選んで下さい。　　　　　　　　　　　→","シングルスの部（　男子　・　女子）参加申込書"]
[]
[null,{"$f":"\"学校名   \"&本校名&\"高等学校\"","v":"学校名   栗東高等学校"},null,null,null,{"$f":"\"顧問名　　　\"&顧問名","v":"顧問名　　　志村　桃"}]
["基礎データ入力へ"]
[null,{"$f":"\"所在地　　　\"&所在地","v":"所在地　　　栗東市小野618"},null,null,null,{"$f":"\"電話番号　\"&電話番号","v":"電話番号　077-553-3350"}]
[null,"記入例"]
[null,3,"中野　忍",2,"秋季ベスト１６",3,210101,"中野　忍","高島"]
[]
[null,"順位","選手氏名","学年","戦績","順位","コード","選手氏名","所属校"]
[null,21,null,{"$f":"IF(ISERROR(VLOOKUP(H46,名前コード,2,0)),\"\",VLOOKUP(H46,名前コード,2,0))","v":""},null,{"$f":"B46","v":21},{"$f":"IF(C46=\"\",\"\",VLOOKUP(C46,名前,4,0))","v":""},{"$f":"C46","v":0},{"$f":"IF(C46=\"\",\"\",本校名)","v":""}]
[null,{"$f":"B46+1","v":22},null,{"$f":"IF(ISERROR(VLOOKUP(H47,名前コード,2,0)),\"\",VLOOKUP(H47,名前コード,2,0))","v":""},null,{"$f":"B47","v":22},{"$f":"IF(C47=\"\",\"\",VLOOKUP(C47,名前,4,0))","v":""},{"$f":"C47","v":0},{"$f":"IF(C47=\"\",\"\",本校名)","v":""}]
[null,{"$f":"B47+1","v":23},null,{"$f":"IF(ISERROR(VLOOKUP(H48,名前コード,2,0)),\"\",VLOOKUP(H48,名前コード,2,0))","v":""},null,{"$f":"B48","v":23},"",0,""]
[null,24,null,"",null,24,"",0,""]
[null,25,null,"",null,25,"",0,""]
[null,26,null,"",null,26,"",0,""]
[null,27,null,"",null,27,"",0,""]
[null,28,null,"",null,28,"",0,""]
[null,29,null,"",null,29,"",0,""]
[null,30,null,"",null,30,"",0,""]
[null,31,null,"",null,31,"",0,""]
[null,32,null,"",null,32,"",0,""]
[null,33,null,"",null,33,"",0,""]
[null,34,null,"",null,34,"",0,""]
[null,35,null,"",null,35,"",0,""]
[null,36,null,"",null,36,"",0,""]
[null,37,null,"",null,37,"",0,""]
[null,38,null,"",null,38,"",0,""]
[null,39,null,"",null,39,"",0,""]
[null,{"$f":"B64+1","v":40},null,"",null,40,"",0,""]
[null,"上記の者は本校在籍生徒で、表記大会に出場することを認めます。"]
[null,null,null,null,null,"平成　　　年　　　月　　　日"]
[null,null,null,{"$f":"本校名&\"高等学校長\"","v":"栗東高等学校長"},null,null,null,null,"印"]

{"sheet":"秋Ｄ","index":9,"n_rows":90,"n_cols":10,"rows_kept":90,"cut":false,"hidden":false,"merged":[[30,8,31,8],[1,1,1,8],[2,1,2,8],[12,8,13,8],[14,8,15,8],[16,8,17,8],[18,8,19,8],[20,8,21,8],[22,8,23,8],[24,8,25,8],[26,8,27,8],[28,8,29,8],[67,8,68,8],[32,8,33,8],[34,8,35,8],[36,8,37,8],[38,8,39,8],[40,8,41,8],[47,1,47,8],[57,8,58,8],[59,8,60,8],[61,8,62,8],[63,8,64,8],[65,8,66,8],[69,8,70,8],[71,8,72,8],[73,8,74,8],[75,8,76,8],[85,8,86,8],[77,8,78,8],[79,8,80,8],[81,8,82,8],[83,8,84,8]]}
[]
["編集不可（基礎データ入力！画面で開催年度を更新してください。）　　　→",{"$f":"\"平成\"&年度&\"年度  \"&\"滋賀県秋季高校総体ﾃﾆｽ競技大会\"","v":"平成30年度  滋賀県秋季高校総体ﾃﾆｽ競技大会"},null,null,null,null,null,null,null,{"$f":"VLOOKUP(本校名,選手Code入力!$P$6:$Q$41,2,0)","v":11}]
[null,"ダブルスの部（  男子 ・   女子）参加申込書"]
[]
[null,{"$f":"\"学校名   \"&本校名&\"高等学校\"","v":"学校名   栗東高等学校"},null,null,null,{"$f":"\"顧問名　　　\"&顧問名","v":"顧問名　　　志村　桃"}]
["基礎データ入力へ"]
[null,{"$f":"\"所在地　　　\"&所在地","v":"所在地　　　栗東市小野618"},null,null,null,{"$f":"\"電話番号　\"&電話番号","v":"電話番号　077-553-3350"}]
[null,"記入例"]
[null,3,"中野　忍",2,"秋季ベスト１６",3,210101,"中野　忍","高島"]
[]
[]
[null,"順位","氏名","学年","戦績","順位","ｺｰﾄﾞ","氏名","所属校"]
[null,1,null,{"$f":"IF(ISERROR(VLOOKUP(C13,名前コード,2,0)),\"\",VLOOKUP(C13,名前コード,2,0))","v":""},null,1,{"$f":"IF(C13=\"\",\"\",VLOOKUP(C13,名前,4,0))","v":""},{"$f":"C13","v":0},{"$f":"IF(C13=\"\",\"\",本校名)","v":""}]
[null,null,null,{"$f":"IF(ISERROR(VLOOKUP(C14,名前コード,2,0)),\"\",VLOOKUP(C14,名前コード,2,0))","v":""},null,null,{"$f":"IF(C14=\"\",\"\",VLOOKUP(C14,名前,4,0))","v":""},{"$f":"C14","v":0}]
[null,2,null,{"$f":"IF(ISERROR(VLOOKUP(C15,名前コード,2,0)),\"\",VLOOKUP(C15,名前コード,2,0))","v":""},null,2,{"$f":"IF(C15=\"\",\"\",VLOOKUP(C15,名前,4,0))","v":""},{"$f":"C15","v":0},{"$f":"IF(C15=\"\",\"\",本校名)","v":""}]
[null,null,null,{"$f":"IF(ISERROR(VLOOKUP(C16,名前コード,2,0)),\"\",VLOOKUP(C16,名前コード,2,0))","v":""},null,null,{"$f":"IF(C16=\"\",\"\",VLOOKUP(C16,名前,4,0))","v":""},{"$f":"C16","v":0}]
[null,3,null,{"$f":"IF(ISERROR(VLOOKUP(C17,名前コード,2,0)),\"\",VLOOKUP(C17,名前コード,2,0))","v":""},null,3,{"$f":"IF(C17=\"\",\"\",VLOOKUP(C17,名前,4,0))","v":""},{"$f":"C17","v":0},{"$f":"IF(C17=\"\",\"\",本校名)","v":""}]
[null,null,null,"",null,null,"",0]
[null,4,null,"",null,4,"",0,{"$f":"IF(C19=\"\",\"\",本校名)","v":""}]
[null,null,null,"",null,null,"",0]
[null,5,null,"",null,5,"",0,{"$f":"IF(C21=\"\",\"\",本校名)","v":""}]
[null,null,null,"",null,null,"",0]
[null,6,null,"",null,6,"",0,{"$f":"IF(C23=\"\",\"\",本校名)","v":""}]
[null,null,null,"",null,null,"",0]
[null,7,null,"",null,7,"",0,{"$f":"IF(C25=\"\",\"\",本校名)","v":""}]
[null,null,null,"",null,null,"",0]
[null,8,null,"",null,8,"",0,{"$f":"IF(C27=\"\",\"\",本校名)","v":""}]
[null,null,null,"",null,null,"",0]
[null,9,null,"",null,9,"",0,{"$f":"IF(C29=\"\",\"\",本校名)","v":""}]
[null,null,null,"",null,null,"",0]
[null,10,null,"",null,10,"",0,{"$f":"IF(C31=\"\",\"\",本校名)","v":""}]
[null,null,null,"",null,null,"",0]
[null,11,null,"",null,11,"",0,{"$f":"IF(C33=\"\",\"\",本校名)","v":""}]
[null,null,null,"",null,null,"",0]
[null,12,null,"",null,12,"",0,{"$f":"IF(C35=\"\",\"\",本校名)","v":""}]
[null,null,null,"",null,null,"",0]
[null,13,null,"",null,13,"",0,{"$f":"IF(C37=\"\",\"\",本校名)","v":""}]
[null,null,null,"",null,null,"",0]
[null,14,null,"",null,14,"",0,{"$f":"IF(C39=\"\",\"\",本校名)","v":""}]
[null,null,null,"",null,null,"",0]
[null,15,null,"",null,15,"",0,{"$f":"IF(C41=\"\",\"\",本校名)","v":""}]
[null,null,null,"",null,null,"",0]
[null,"上記の者は本校在籍生徒で、表記大会に出場することを認めます。"]
[null,null,null,null,"平成29年　10　月　2　日"]
[null,null,null,null,{"$f":"秋Ｓ!$D$34","v":"栗東高等学校長　　 "},null,null,null,"印"]
[null,null,null,null,null,null,null,{"$f":"IF(C58=\"\",\"\",\"No.2/2\")","v":""}]
["編集不可（基礎データ入力！画面で操作してください。）　　　→",{"$f":"$B$2","v":"平成30年度  滋賀県秋季高校総体ﾃﾆｽ競技大会"}]
["リストから種目を選んで下さい。→","ダブルスの部（  男子 ・   女子）参加申込書"]
[]
[null,{"$f":"\"学校名   \"&本校名&\"高等学校\"","v":"学校名   栗東高等学校"},null,null,null,{"$f":"\"顧問名　　　\"&顧問名","v":"顧問名　　　志村　桃"}]
["基礎データ入力へ"]
[null,{"$f":"\"所在地　　　\"&所在地","v":"所在地　　　栗東市小野618"},null,null,null,{"$f":"\"電話番号　\"&電話番号","v":"電話番号　077-553-3350"}]
[null,"記入例"]
[null,3,"中野　忍",2,"秋季ベスト１６",3,210101,"中野　忍","高島"]
[]
[]
[null,"順位","氏名","学年","戦績","順位","ｺｰﾄﾞ","氏名","所属校"]
[null,16,null,{"$f":"IF(ISERROR(VLOOKUP(C58,名前コード,2,0)),\"\",VLOOKUP(C58,名前コード,2,0))","v":""},null,16,{"$f":"IF(C58=\"\",\"\",VLOOKUP(C58,名前,4,0))","v":""},{"$f":"C58","v":0},{"$f":"IF(C58=\"\",\"\",本校名)","v":""}]
[null,null,null,{"$f":"IF(ISERROR(VLOOKUP(C59,名前コード,2,0)),\"\",VLOOKUP(C59,名前コード,2,0))","v":""},null,null,{"$f":"IF(C59=\"\",\"\",VLOOKUP(C59,名前,4,0))","v":""},{"$f":"C59","v":0}]
[null,17,null,{"$f":"IF(ISERROR(VLOOKUP(C60,名前コード,2,0)),\"\",VLOOKUP(C60,名前コード,2,0))","v":""},null,17,{"$f":"IF(C60=\"\",\"\",VLOOKUP(C60,名前,4,0))","v":""},{"$f":"C60","v":0},{"$f":"IF(C60=\"\",\"\",本校名)","v":""}]
[null,null,null,{"$f":"IF(ISERROR(VLOOKUP(C61,名前コード,2,0)),\"\",VLOOKUP(C61,名前コード,2,0))","v":""},null,null,{"$f":"IF(C61=\"\",\"\",VLOOKUP(C61,名前,4,0))","v":""},{"$f":"C61","v":0}]
[null,18,null,{"$f":"IF(ISERROR(VLOOKUP(C62,名前コード,2,0)),\"\",VLOOKUP(C62,名前コード,2,0))","v":""},null,18,{"$f":"IF(C62=\"\",\"\",VLOOKUP(C62,名前,4,0))","v":""},{"$f":"C62","v":0},{"$f":"IF(C62=\"\",\"\",本校名)","v":""}]
[null,null,null,"",null,null,"",0]
[null,19,null,"",null,19,"",0,{"$f":"IF(C64=\"\",\"\",本校名)","v":""}]
[null,null,null,"",null,null,"",0]
[null,20,null,"",null,20,"",0,{"$f":"IF(C66=\"\",\"\",本校名)","v":""}]
[null,null,null,"",null,null,"",0]
[null,21,null,"",null,21,"",0,{"$f":"IF(C68=\"\",\"\",本校名)","v":""}]
[null,null,null,"",null,null,"",0]
[null,22,null,"",null,22,"",0,{"$f":"IF(C70=\"\",\"\",本校名)","v":""}]
[null,null,null,"",null,null,"",0]
[null,23,null,"",null,23,"",0,{"$f":"IF(C72=\"\",\"\",本校名)","v":""}]
[null,null,null,"",null,null,"",0]
[null,24,null,"",null,24,"",0,{"$f":"IF(C74=\"\",\"\",本校名)","v":""}]
[null,null,null,"",null,null,"",0]
[null,25,null,"",null,25,"",0,{"$f":"IF(C76=\"\",\"\",本校名)","v":""}]
[null,null,null,"",null,null,"",0]
[null,26,null,"",null,26,"",0,{"$f":"IF(C78=\"\",\"\",本校名)","v":""}]
[null,null,null,"",null,null,"",0]
[null,27,null,"",null,27,"",0,{"$f":"IF(C80=\"\",\"\",本校名)","v":""}]
[null,null,null,"",null,null,"",0]
[null,28,null,"",null,28,"",0,{"$f":"IF(C82=\"\",\"\",本校名)","v":""}]
[null,null,null,"",null,null,"",0]
[null,29,null,"",null,29,"",0,{"$f":"IF(C84=\"\",\"\",本校名)","v":""}]
[null,null,null,"",null,null,"",0]
[null,30,null,"",null,30,"",0,{"$f":"IF(C86=\"\",\"\",本校名)","v":""}]
[null,null,null,"",null,null,"",0]
[null,"上記の者は本校在籍生徒で、表記大会に出場することを認めます。"]
[null,null,null,null,"平成　　　年　　　月　　　日"]
[null,null,null,null,{"$f":"本校名&\"高等学校長\"","v":"栗東高等学校長"},null,null,null,"印"]

{"sheet":"秋団","index":10,"n_rows":21,"n_cols":17,"rows_kept":21,"cut":false,"hidden":false,"merged":[[10,1,10,9],[0,0,0,12],[1,0,1,12],[3,0,3,10],[8,1,8,9],[9,1,9,9],[11,1,11,9],[16,1,16,9],[17,1,17,9],[18,0,18,12],[12,1,12,9],[13,1,13,9],[14,1,14,9],[15,1,15,9]]}
[{"$f":"\"平成\"&年度&\"年度  \"&\"滋賀県秋季高校総体テニス競技大会\"","v":"平成30年度  滋賀県秋季高校総体テニス競技大会"}]
["団体戦の部（男子・女子）参加申込書"]
[]
[{"$f":"\"学校名   \"&本校名&\"       高等学校\"","v":"学校名   栗東       高等学校"},null,null,null,null,null,null,null,null,null,null,null,{"$f":"VLOOKUP(本校名,選手Code入力!$P$6:$Q$41,2,0)","v":11}]
[{"$f":"\"監督名    \"&akikantoku","v":"監督名    志村　桃"},null,null,null,null,null,null,null,null,null,null,null,null,null,null,null,"↓このボタンを押す（クリックする）と、新規ファイルに値複写されます。"]
[{"$f":"\"所在地  \"&所在地","v":"所在地  栗東市小野618"}]
[{"$f":"\"電話番号  \"&電話番号","v":"電話番号  077-553-3350"}]
[]
["順位","ｺｰﾄﾞ",null,null,null,null,null,null,null,null,"選手氏名","学年","戦績（ポイント）"]
[1,{"$f":"IF(K10=\"\",\"\",VLOOKUP(K10,名前,4,0))","v":""},null,null,null,null,null,null,null,null,null,{"$f":"IF(ISERROR(VLOOKUP(K10,名前コード,2,0)),\"\",VLOOKUP(K10,名前コード,2,0))","v":""}]
[2,"",null,null,null,null,null,null,null,null,null,{"$f":"IF(ISERROR(VLOOKUP(K11,名前コード,2,0)),\"\",VLOOKUP(K11,名前コード,2,0))","v":""}]
[3,"",null,null,null,null,null,null,null,null,null,{"$f":"IF(ISERROR(VLOOKUP(K12,名前コード,2,0)),\"\",VLOOKUP(K12,名前コード,2,0))","v":""}]
[4,"",null,null,null,null,null,null,null,null,null,{"$f":"IF(ISERROR(VLOOKUP(K13,名前コード,2,0)),\"\",VLOOKUP(K13,名前コード,2,0))","v":""}]
[5,"",null,null,null,null,null,null,null,null,null,""]
[6,"",null,null,null,null,null,null,null,null,null,{"$f":"IF(ISERROR(VLOOKUP(K15,名前コード,2,0)),\"\",VLOOKUP(K15,名前コード,2,0))","v":""}]
[7,"",null,null,null,null,null,null,null,null,null,""]
[8,"",null,null,null,null,null,null,null,null,null,""]
[9,"",null,null,null,null,null,null,null,null,null,""]
["上記の者は本校在籍生徒で、当大会に出場することを認めます。"]
[null,null,null,null,null,null,null,null,null,null,"平成29年　10　月　2　日"]
[null,null,null,null,null,null,null,{"$f":"秋Ｄ!$E$45","v":"栗東高等学校長　　 "},null,null,null,null,"印"]

{"sheet":"冬D","index":11,"n_rows":90,"n_cols":9,"rows_kept":90,"cut":false,"hidden":false,"merged":[[9,2,10,2],[47,1,47,8],[1,1,1,8],[2,1,2,8]]}
[null,null,null,null,null,null,null,{"$f":"VLOOKUP(本校名,選手Code入力!$P$6:$Q$41,2,0)","v":11}]
["編集不可（基礎データ入力！画面で開催年度を更新してください。）　　　→",{"$f":"\"平成\"&年度&\"年度  \"&\"滋賀県ウィンターダブルステニス大会\"","v":"平成30年度  滋賀県ウィンターダブルステニス大会"}]
[null,"１７歳以下の部　ダブルスの部（  男子 ・   女子）参加申込書"]
[]
[null,{"$f":"\"学校名   \"&本校名&\"高等学校\"","v":"学校名   栗東高等学校"},null,null,null,{"$f":"\"顧問名　　　\"&顧問名&\" 印\"","v":"顧問名　　　志村　桃 印"}]
["基礎データ入力へ"]
[null,{"$f":"\"所在地　　　\"&所在地","v":"所在地　　　栗東市小野618"},null,null,null,{"$f":"\"電話番号　\"&電話番号","v":"電話番号　077-553-3350"}]
[null,"記入例（未登録選手のデータ＜生年月日含む＞を総務に送信してください。）"]
[null,3,"中野　忍",2,"秋季ベスト１６",3,210101,"中野　忍","高島"]
[null,null,{"$f":"COUNTA(C13:C42)/2*2600","v":0}]
[]
[null,"順位","氏名","学年","戦績","順位","ｺｰﾄﾞ","氏名","所属校"]
[null,1,null,{"$f":"IF(ISERROR(VLOOKUP(C13,名前コード,2,0)),\"\",VLOOKUP(C13,名前コード,2,0))","v":""},null,1,{"$f":"IF(C13=\"\",\"\",VLOOKUP(C13,名前,4,0))","v":""},{"$f":"C13","v":0},{"$f":"IF(C13=\"\",\"\",本校名)","v":""}]
[null,null,null,{"$f":"IF(ISERROR(VLOOKUP(C14,名前コード,2,0)),\"\",VLOOKUP(C14,名前コード,2,0))","v":""},null,null,{"$f":"IF(C14=\"\",\"\",VLOOKUP(C14,名前,4,0))","v":""},{"$f":"C14","v":0},{"$f":"I13","v":""}]
[null,2,null,{"$f":"IF(ISERROR(VLOOKUP(C15,名前コード,2,0)),\"\",VLOOKUP(C15,名前コード,2,0))","v":""},null,2,{"$f":"IF(C15=\"\",\"\",VLOOKUP(C15,名前,4,0))","v":""},{"$f":"C15","v":0},{"$f":"IF(C15=\"\",\"\",本校名)","v":""}]
[null,null,null,{"$f":"IF(ISERROR(VLOOKUP(C16,名前コード,2,0)),\"\",VLOOKUP(C16,名前コード,2,0))","v":""},null,null,{"$f":"IF(C16=\"\",\"\",VLOOKUP(C16,名前,4,0))","v":""},{"$f":"C16","v":0},{"$f":"I15","v":""}]
[null,3,null,{"$f":"IF(ISERROR(VLOOKUP(C17,名前コード,2,0)),\"\",VLOOKUP(C17,名前コード,2,0))","v":""},null,3,{"$f":"IF(C17=\"\",\"\",VLOOKUP(C17,名前,4,0))","v":""},{"$f":"C17","v":0},{"$f":"IF(C17=\"\",\"\",本校名)","v":""}]
[null,null,null,"",null,null,"",0,{"$f":"I17","v":""}]
[null,4,null,"",null,4,"",0,{"$f":"IF(C19=\"\",\"\",本校名)","v":""}]
[null,null,null,"",null,null,"",0,{"$f":"I19","v":""}]
[null,5,null,"",null,5,"",0,{"$f":"IF(C21=\"\",\"\",本校名)","v":""}]
[null,null,null,"",null,null,"",0,{"$f":"I21","v":""}]
[null,6,null,"",null,6,"",0,{"$f":"IF(C23=\"\",\"\",本校名)","v":""}]
[null,null,null,"",null,null,"",0,{"$f":"I23","v":""}]
[null,7,null,{"$f":"IF(ISERROR(VLOOKUP(C25,名前コード,2,0)),\"\",VLOOKUP(C25,名前コード,2,0))","v":""},null,7,{"$f":"IF(C25=\"\",\"\",VLOOKUP(C25,名前,4,0))","v":""},{"$f":"C25","v":0},{"$f":"IF(C25=\"\",\"\",本校名)","v":""}]
[null,null,null,"",null,null,"",0,{"$f":"I25","v":""}]
[null,8,null,"",null,8,"",0,{"$f":"IF(C27=\"\",\"\",本校名)","v":""}]
[null,null,null,"",null,null,"",0,{"$f":"I27","v":""}]
[null,9,null,"",null,9,"",0,{"$f":"IF(C29=\"\",\"\",本校名)","v":""}]
[null,null,null,"",null,null,"",0,{"$f":"I29","v":""}]
[null,10,null,"",null,10,"",0,{"$f":"IF(C31=\"\",\"\",本校名)","v":""}]
[null,null,null,"",null,null,"",0,{"$f":"I31","v":""}]
[null,11,null,"",null,11,"",0,{"$f":"IF(C33=\"\",\"\",本校名)","v":""}]
[null,null,null,"",null,null,"",0,{"$f":"I33","v":""}]
[null,12,null,"",null,12,"",0,{"$f":"IF(C35=\"\",\"\",本校名)","v":""}]
[null,null,null,"",null,null,"",0,{"$f":"I35","v":""}]
[null,13,null,"",null,13,"",0,{"$f":"IF(C37=\"\",\"\",本校名)","v":""}]
[null,null,null,"",null,null,"",0,{"$f":"I37","v":""}]
[null,14,null,"",null,14,"",0,{"$f":"IF(C39=\"\",\"\",本校名)","v":""}]
[null,null,null,"",null,null,"",0,{"$f":"I39","v":""}]
[null,15,null,"",null,15,"",0,{"$f":"IF(C41=\"\",\"\",本校名)","v":""}]
[null,null,null,"",null,null,"",0,{"$f":"I41","v":""}]
[]
[]
[]
[null,null,null,null,null,null,null,{"$f":"IF(C58=\"\",\"\",\"No.2/2\")","v":""}]
["編集不可（基礎データ入力！画面で操作してください。）　　　→",{"$f":"$B$2","v":"平成30年度  滋賀県ウィンターダブルステニス大会"}]
["リストから種目を選んで下さい。→",{"$f":"B3","v":"１７歳以下の部　ダブルスの部（  男子 ・   女子）参加申込書"}]
[]
[null,{"$f":"\"学校名   \"&本校名&\"高等学校\"","v":"学校名   栗東高等学校"},null,null,null,{"$f":"\"顧問名　　　\"&顧問名","v":"顧問名　　　志村　桃"}]
["基礎データ入力へ"]
[null,{"$f":"\"所在地　　　\"&所在地","v":"所在地　　　栗東市小野618"},null,null,null,{"$f":"\"電話番号　\"&電話番号","v":"電話番号　077-553-3350"}]
[null,"記入例"]
[null,3,"中野　忍",2,"秋季ベスト１６",3,210101,"中野　忍","高島"]
[]
[]
[null,"順位","氏名","学年","戦績","順位","ｺｰﾄﾞ","氏名","所属校"]
[null,16,null,{"$f":"IF(ISERROR(VLOOKUP(C58,名前コード,2,0)),\"\",VLOOKUP(C58,名前コード,2,0))","v":""},null,16,{"$f":"IF(C58=\"\",\"\",VLOOKUP(C58,名前,4,0))","v":""},{"$f":"C58","v":0},{"$f":"IF(C58=\"\",\"\",本校名)","v":""}]
[null,null,null,{"$f":"IF(ISERROR(VLOOKUP(C59,名前コード,2,0)),\"\",VLOOKUP(C59,名前コード,2,0))","v":""},null,null,{"$f":"IF(C59=\"\",\"\",VLOOKUP(C59,名前,4,0))","v":""},{"$f":"C59","v":0},{"$f":"I58","v":""}]
[null,17,null,{"$f":"IF(ISERROR(VLOOKUP(C60,名前コード,2,0)),\"\",VLOOKUP(C60,名前コード,2,0))","v":""},null,17,{"$f":"IF(C60=\"\",\"\",VLOOKUP(C60,名前,4,0))","v":""},{"$f":"C60","v":0},{"$f":"IF(C60=\"\",\"\",本校名)","v":""}]
[null,null,null,{"$f":"IF(ISERROR(VLOOKUP(C61,名前コード,2,0)),\"\",VLOOKUP(C61,名前コード,2,0))","v":""},null,null,{"$f":"IF(C61=\"\",\"\",VLOOKUP(C61,名前,4,0))","v":""},{"$f":"C61","v":0},{"$f":"I60","v":""}]
[null,18,null,{"$f":"IF(ISERROR(VLOOKUP(C62,名前コード,2,0)),\"\",VLOOKUP(C62,名前コード,2,0))","v":""},null,18,{"$f":"IF(C62=\"\",\"\",VLOOKUP(C62,名前,4,0))","v":""},{"$f":"C62","v":0},{"$f":"IF(C62=\"\",\"\",本校名)","v":""}]
[null,null,null,"",null,null,"",0,{"$f":"I62","v":""}]
[null,19,null,"",null,19,"",0,{"$f":"IF(C64=\"\",\"\",本校名)","v":""}]
[null,null,null,"",null,null,"",0,{"$f":"I64","v":""}]
[null,20,null,"",null,20,"",0,{"$f":"IF(C66=\"\",\"\",本校名)","v":""}]
[null,null,null,"",null,null,"",0,{"$f":"I66","v":""}]
[null,21,null,"",null,21,"",0,{"$f":"IF(C68=\"\",\"\",本校名)","v":""}]
[null,null,null,"",null,null,"",0,{"$f":"I68","v":""}]
[null,22,null,"",null,22,"",0,{"$f":"IF(C70=\"\",\"\",本校名)","v":""}]
[null,null,null,"",null,null,"",0,{"$f":"I70","v":""}]
[null,23,null,"",null,23,"",0,{"$f":"IF(C72=\"\",\"\",本校名)","v":""}]
[null,null,null,"",null,null,"",0,{"$f":"I72","v":""}]
[null,24,null,"",null,24,"",0,{"$f":"IF(C74=\"\",\"\",本校名)","v":""}]
[null,null,null,"",null,null,"",0,{"$f":"I74","v":""}]
[null,25,null,"",null,25,"",0,{"$f":"IF(C76=\"\",\"\",本校名)","v":""}]
[null,null,null,"",null,null,"",0,{"$f":"I76","v":""}]
[null,26,null,"",null,26,"",0,{"$f":"IF(C78=\"\",\"\",本校名)","v":""}]
[null,null,null,"",null,null,"",0,{"$f":"I78","v":""}]
[null,27,null,"",null,27,"",0,{"$f":"IF(C80=\"\",\"\",本校名)","v":""}]
[null,null,null,"",null,null,"",0,{"$f":"I80","v":""}]
[null,28,null,"",null,28,"",0,{"$f":"IF(C82=\"\",\"\",本校名)","v":""}]
[null,null,null,"",null,null,"",0,{"$f":"I82","v":""}]
[null,29,null,"",null,29,"",0,{"$f":"IF(C84=\"\",\"\",本校名)","v":""}]
[null,null,null,"",null,null,"",0,{"$f":"I84","v":""}]
[null,30,null,"",null,30,"",0,{"$f":"IF(C86=\"\",\"\",本校名)","v":""}]
[null,null,null,"",null,null,"",0,{"$f":"I86","v":""}]
[null,"上記の者は本校在籍生徒で、表記大会に出場することを認めます。"]
[null,null,null,null,"平成　　　年　　　月　　　日"]
[null,null,null,null,{"$f":"本校名&\"高等学校長\"","v":"栗東高等学校長"},null,null,null,"印"]

{"sheet":"県Jr.S","index":12,"n_rows":31,"n_cols":10,"rows_kept":31,"cut":false,"hidden":false,"merged":[[1,1,1,8],[2,1,2,8],[4,5,4,8],[31,1,31,8],[9,2,9,4]]}
[null,"（兼　関西ジュニアテニス選手権大会滋賀県予選・国体県選考会出場選手決定大会）",null,null,null,null,null,null,{"$f":"J2","v":11}]
["編集不可（基礎データ入力！画面で開催年度を更新してください。）　　　→",{"$f":"\"平成\"&年度&\"年度  \"&\"滋賀県ジュニアテニス選手権大会\"","v":"平成30年度  滋賀県ジュニアテニス選手権大会"},null,null,null,null,null,null,null,{"$f":"VLOOKUP(本校名,選手Code入力!$P$6:$Q$41,2,0)","v":11}]
[null,"18歳以下 シングルスの部（　男子　・　女子）参加申込書"]
[]
[null,{"$f":"\"学校名   \"&本校名&\"高等学校\"","v":"学校名   栗東高等学校"},null,null,null,{"$f":"\"顧問名　　　\"&顧問名&\" 印\"","v":"顧問名　　　志村　桃 印"}]
["基礎データ入力へ"]
[null,{"$f":"\"所在地　　　\"&所在地","v":"所在地　　　栗東市小野618"},null,null,null,{"$f":"\"電話番号　\"&電話番号","v":"電話番号　077-553-3350"}]
[null,"記入例（未登録選手のデータ＜生年月日含む＞を総務に送信してください。）"]
[null,3,"中野　忍",2,"秋季ベスト１６",3,210101,"中野　忍","高島"]
[null,null,{"$f":"COUNTA(C12:C31)*2600","v":0}]
[null,"順位","選手氏名","学年","戦績","順位","コード","選手氏名","所属校"]
[null,1,null,{"$f":"IF(ISERROR(VLOOKUP(H12,名前コード,2,0)),\"\",VLOOKUP(H12,名前コード,2,0))","v":""},null,1,{"$f":"IF(C12=\"\",\"\",VLOOKUP(C12,名前,4,0))","v":""},{"$f":"C12","v":0},{"$f":"IF(C12=\"\",\"\",本校名&\"高\")","v":""}]
[null,2,null,{"$f":"IF(ISERROR(VLOOKUP(H13,名前コード,2,0)),\"\",VLOOKUP(H13,名前コード,2,0))","v":""},null,2,{"$f":"IF(C13=\"\",\"\",VLOOKUP(C13,名前,4,0))","v":""},{"$f":"C13","v":0},""]
[null,3,null,{"$f":"IF(ISERROR(VLOOKUP(H14,名前コード,2,0)),\"\",VLOOKUP(H14,名前コード,2,0))","v":""},null,3,"",0,""]
[null,4,null,"",null,4,"",0,""]
[null,5,null,"",null,5,"",0,""]
[null,6,null,"",null,6,"",0,""]
[null,7,null,"",null,7,"",0,""]
[null,8,null,"",null,8,"",0,""]
[null,9,null,"",null,9,"",0,""]
[null,10,null,"",null,10,"",0,""]
[null,11,null,"",null,11,"",0,""]
[null,12,null,"",null,12,"",0,""]
[null,13,null,"",null,13,"",0,""]
[null,14,null,"",null,14,"",0,""]
[null,15,null,"",null,15,"",0,""]
[null,16,null,"",null,16,"",0,""]
[null,17,null,"",null,17,"",0,""]
[null,18,null,"",null,18,"",0,""]
[null,19,null,"",null,19,"",0,""]
[null,20,null,"",null,20,"",0,""]

{"sheet":"県Jr.D","index":13,"n_rows":90,"n_cols":9,"rows_kept":90,"cut":false,"hidden":false,"merged":[[1,1,1,8],[2,1,2,8],[47,1,47,8],[9,2,10,2]]}
[null,"（兼　関西ジュニアテニス選手権大会滋賀県予選・国体県選考会出場選手決定大会）",null,null,null,null,null,{"$f":"VLOOKUP(本校名,選手Code入力!$P$6:$Q$41,2,0)","v":11}]
["編集不可（基礎データ入力！画面で開催年度を更新してください。）　　　→",{"$f":"\"平成\"&年度&\"年度  \"&\"滋賀県ジュニアテニス選手権大会\"","v":"平成30年度  滋賀県ジュニアテニス選手権大会"}]
[null,"18歳以下の部　ダブルスの部（  男子 ・   女子）参加申込書"]
[]
[null,{"$f":"\"学校名   \"&本校名&\"高等学校\"","v":"学校名   栗東高等学校"},null,null,null,{"$f":"\"顧問名　　　\"&顧問名&\" 印\"","v":"顧問名　　　志村　桃 印"}]
["基礎データ入力へ"]
[null,{"$f":"\"所在地　　　\"&所在地","v":"所在地　　　栗東市小野618"},null,null,null,{"$f":"\"電話番号　\"&電話番号","v":"電話番号　077-553-3350"}]
[null,"記入例（未登録選手のデータ＜生年月日含む＞を総務に送信してください。）"]
[null,3,"中野　忍",2,"秋季ベスト１６",3,210101,"中野　忍","高島"]
[null,null,{"$f":"COUNTA(C13:C42)/2*2600","v":0}]
[]
[null,"順位","氏名","学年","戦績","順位","ｺｰﾄﾞ","氏名","所属校"]
[null,1,null,{"$f":"IF(ISERROR(VLOOKUP(C13,名前コード,2,0)),\"\",VLOOKUP(C13,名前コード,2,0))","v":""},null,1,{"$f":"IF(C13=\"\",\"\",VLOOKUP(C13,名前,4,0))","v":""},{"$f":"C13","v":0},{"$f":"IF(C13=\"\",\"\",本校名&\"高\")","v":""}]
[null,null,null,{"$f":"IF(ISERROR(VLOOKUP(C14,名前コード,2,0)),\"\",VLOOKUP(C14,名前コード,2,0))","v":""},null,null,{"$f":"IF(C14=\"\",\"\",VLOOKUP(C14,名前,4,0))","v":""},{"$f":"C14","v":0},""]
[null,2,null,{"$f":"IF(ISERROR(VLOOKUP(C15,名前コード,2,0)),\"\",VLOOKUP(C15,名前コード,2,0))","v":""},null,2,{"$f":"IF(C15=\"\",\"\",VLOOKUP(C15,名前,4,0))","v":""},{"$f":"C15","v":0},""]
[null,null,null,{"$f":"IF(ISERROR(VLOOKUP(C16,名前コード,2,0)),\"\",VLOOKUP(C16,名前コード,2,0))","v":""},null,null,{"$f":"IF(C16=\"\",\"\",VLOOKUP(C16,名前,4,0))","v":""},{"$f":"C16","v":0},""]
[null,3,null,{"$f":"IF(ISERROR(VLOOKUP(C17,名前コード,2,0)),\"\",VLOOKUP(C17,名前コード,2,0))","v":""},null,3,{"$f":"IF(C17=\"\",\"\",VLOOKUP(C17,名前,4,0))","v":""},{"$f":"C17","v":0},""]
[null,null,null,"",null,null,"",0,""]
[null,4,null,"",null,4,"",0,""]
[null,null,null,"",null,null,"",0,""]
[null,5,null,"",null,5,"",0,""]
[null,null,null,"",null,null,"",0,""]
[null,6,null,"",null,6,"",0,""]
[null,null,null,"",null,null,"",0,""]
[null,7,null,"",null,7,"",0,""]
[null,null,null,"",null,null,"",0,""]
[null,8,null,"",null,8,"",0,""]
[null,null,null,"",null,null,"",0,""]
[null,9,null,"",null,9,"",0,""]
[null,null,null,"",null,null,"",0,""]
[null,10,null,"",null,10,"",0,""]
[null,null,null,"",null,null,"",0,""]
[null,11,null,"",null,11,"",0,""]
[null,null,null,"",null,null,"",0,""]
[null,12,null,"",null,12,"",0,""]
[null,null,null,"",null,null,"",0,""]
[null,13,null,"",null,13,"",0,""]
[null,null,null,"",null,null,"",0,""]
[null,14,null,"",null,14,"",0,""]
[null,null,null,"",null,null,"",0,""]
[null,15,null,"",null,15,"",0,""]
[null,null,null,"",null,null,"",0,""]
[]
[]
[]
[null,null,null,null,null,null,null,{"$f":"IF(C58=\"\",\"\",\"No.2/2\")","v":""}]
["編集不可（基礎データ入力！画面で操作してください。）　　　→",{"$f":"$B$2","v":"平成30年度  滋賀県ジュニアテニス選手権大会"}]
["リストから種目を選んで下さい。→",{"$f":"B3","v":"18歳以下の部　ダブルスの部（  男子 ・   女子）参加申込書"}]
[]
[null,{"$f":"\"学校名   \"&本校名&\"高等学校\"","v":"学校名   栗東高等学校"},null,null,null,{"$f":"\"顧問名　　　\"&顧問名","v":"顧問名　　　志村　桃"}]
["基礎データ入力へ"]
[null,{"$f":"\"所在地　　　\"&所在地","v":"所在地　　　栗東市小野618"},null,null,null,{"$f":"\"電話番号　\"&電話番号","v":"電話番号　077-553-3350"}]
[null,"記入例"]
[null,3,"中野　忍",2,"秋季ベスト１６",3,210101,"中野　忍","高島"]
[]
[]
[null,"順位","氏名","学年","戦績","順位","ｺｰﾄﾞ","氏名","所属校"]
[null,16,null,{"$f":"IF(ISERROR(VLOOKUP(C58,名前コード,2,0)),\"\",VLOOKUP(C58,名前コード,2,0))","v":""},null,16,{"$f":"IF(C58=\"\",\"\",VLOOKUP(C58,名前,4,0))","v":""},{"$f":"C58","v":0},{"$f":"IF(C58=\"\",\"\",本校名&\"高\")","v":""}]
[null,null,null,{"$f":"IF(ISERROR(VLOOKUP(C59,名前コード,2,0)),\"\",VLOOKUP(C59,名前コード,2,0))","v":""},null,null,{"$f":"IF(C59=\"\",\"\",VLOOKUP(C59,名前,4,0))","v":""},{"$f":"C59","v":0},""]
[null,17,null,{"$f":"IF(ISERROR(VLOOKUP(C60,名前コード,2,0)),\"\",VLOOKUP(C60,名前コード,2,0))","v":""},null,17,{"$f":"IF(C60=\"\",\"\",VLOOKUP(C60,名前,4,0))","v":""},{"$f":"C60","v":0},""]
[null,null,null,{"$f":"IF(ISERROR(VLOOKUP(C61,名前コード,2,0)),\"\",VLOOKUP(C61,名前コード,2,0))","v":""},null,null,{"$f":"IF(C61=\"\",\"\",VLOOKUP(C61,名前,4,0))","v":""},{"$f":"C61","v":0},""]
[null,18,null,{"$f":"IF(ISERROR(VLOOKUP(C62,名前コード,2,0)),\"\",VLOOKUP(C62,名前コード,2,0))","v":""},null,18,{"$f":"IF(C62=\"\",\"\",VLOOKUP(C62,名前,4,0))","v":""},{"$f":"C62","v":0},""]
[null,null,null,"",null,null,"",0,""]
[null,19,null,"",null,19,"",0,""]
[null,null,null,"",null,null,"",0,""]
[null,20,null,"",null,20,"",0,""]
[null,null,null,"",null,null,"",0,""]
[null,21,null,"",null,21,"",0,""]
[null,null,null,"",null,null,"",0,""]
[null,22,null,"",null,22,"",0,""]
[null,null,null,"",null,null,"",0,""]
[null,23,null,"",null,23,"",0,""]
[null,null,null,"",null,null,"",0,""]
[null,24,null,"",null,24,"",0,""]
[null,null,null,"",null,null,"",0,""]
[null,25,null,"",null,25,"",0,""]
[null,null,null,"",null,null,"",0,""]
[null,26,null,"",null,26,"",0,""]
[null,null,null,"",null,null,"",0,""]
[null,27,null,"",null,27,"",0,""]
[null,null,null,"",null,null,"",0,""]
[null,28,null,"",null,28,"",0,""]
[null,null,null,"",null,null,"",0,""]
[null,29,null,"",null,29,"",0,""]
[null,null,null,"",null,null,"",0,""]
[null,30,null,"",null,30,"",0,""]
[null,null,null,"",null,null,"",0,""]
[null,"上記の者は本校在籍生徒で、表記大会に出場することを認めます。"]
[null,null,null,null,"平成　　　年　　　月　　　日"]
[null,null,null,null,{"$f":"本校名&\"高等学校長\"","v":"栗東高等学校長"},null,null,null,"印"]

{"sheet":"学校データ","index":14,"n_rows":64,"n_cols":8,"rows_kept":64,"cut":false,"hidden":false,"merged":[]}
["serial #","高等学校名","コード","郵便番号","所在地","℡","FAX"]
[14,"石部",14,"520-3112","湖南市丸山2丁目3-1","0748-77-0311","0748-77-0316","いしべ"]
[24,"伊吹",24,"521-0226","米原市朝日302","0749-55-2350","0749-55-2778","いぶき"]
[17,"愛知",17,"529-1331","愛荘郡愛知川町愛知川102","0749-42-2150","0749-42-6172","えち"]
[21,"近江",21,"522-0002","彦根市松原町大黒前3511-1","0749-22-2323","0749-24-6351","おうみ"]
[4,"大津商業",4,"520-0037","大津市御陵町2-1","077-524-4284","077-526-1802","おおつしょうぎょう"]
[5,"大津",5,"520-0802","大津市馬場一丁目1-1","077-523-0386","077-526-1772","おおつしょうぎょう"]
[2,"堅田",2,"520-0242","大津市本堅田三丁目9-1","077-572-1206","077-573-7075","かたた"]
[3,"北大津",3,"520-0246","大津市仰木の里一丁目23-1","077-573-5881","077-573-7076","きたおおつ"]
[10,"草津",10,"525-0051","草津市木川町955-1","077-562-1220","077-562-5536","くさつ"]
[9,"光泉",9,"525-8566","草津市野路町178","077-564-5600","077-564-5136","こうせｎ"]
[16,"甲南",16,"520-3301","甲賀市甲南町寺庄427","0748-86-4145","0748-86-4983","こうなん"]
[30,"近江兄弟社",31,"523-0851","近江八幡市市井町177","0748-32-3444","0748-32-5316","こうみきょうだいしゃ"]
[12,"国際情報",12,"520-3016","栗東市小野36","077-554-0600","077-554-1539","こくさいじょうほう"]
[54,"滋賀学園",55,"527-0003","東近江市建部北町520-1","0748-23-0858","0748-23-6145","しががくえん"]
[53,"滋賀短大附",54,"520-0052","大津市朝日が丘一丁目18-1","077-522-3465","077-522-3651","しがたんぎだいがくふ"]
[6,"膳所",6,"520-0815","大津市膳所二丁目11-1","077-523-2304","077-526-1086","ぜぜ"]
[1,"高島",1,"520-1621","高島市今津町今津1936","0740-22-2002","0740-22-4837","たかしま"]
[8,"玉川",8,"525-0058","草津市野路東三丁目2-1","077-565-1581","077-562-6040","たまがわ"]
[25,"虎姫",25,"529-0112","東浅井郡虎姫町宮部2410","0749-73-3055","0749-73-2967","とらひめ"]
[26,"長浜",27,"526-0033","長浜市平方町270","0749-62-0896","0749-65-1340","ながはま"]
[23,"長浜北星",23,"526-0036","長浜市地福寺町3-72","0749-62-3370","0749-65-1344","ながはまほくせい"]
[19,"能登川",19,"521-1235","東近江市伊庭13","0748-42-1305","0748-42-5241","のとがわ"]
[29,"八幡",30,"523-0031","近江八幡市堀上町105","0748-33-2302","0748-32-4051","はちまん"]
[7,"東大津",7,"520-2122","大津市瀬田南大萱町1732-2","077-545-8025","077-543-4874","ひがしおおつ"]
[20,"彦根工業",20,"522-0222","彦根市南川瀬町1310","0749-28-2201","0749-28-2936","ひこねこうぎょう"]
[32,"彦根総合",33,"522-0033　","彦根市芹川町328　","0749-26-0016","0749-22-1510","ひこねそうぎょう"]
[18,"日野",18,"529-1642","蒲生郡日野町上野田150","0748-52-1200","0748-53-1512","ひの"]
[22,"米原",22,"521-0092","米原市西円寺1200","0749-52-1601","0749-52-1603","まいばら"]
[15,"水口東",15,"528-0073","甲賀市水口町古城が丘7-1","0748-62-6745","0748-63-0823","みなくちひがし"]
[13,"守山北",13,"524-0004","守山市笠原町1263","077-585-0431","077-585-5584","もりやまきた"]
[28,"守山",29,"524-0022","守山市守山三丁目12-34","077-582-2289","077-582-6514","もりやまきた"]
[48,"野洲",49,"520-2341","野洲市行畑2丁目9-1","077-587-0059","077-587-5595","やす"]
[27,"八日市南",28,"527-0032","東近江市春日町1-15","0748-22-1513","0748-23-2151","ようかいちみなみ"]
[11,"栗東",11,"520-3016","栗東市小野618","077-553-3350","077-554-1537","りっとう"]
[31,"立命館守山",32,"524-0051","守山市三宅町250","077-582-2019","077-583-2829","りつめいかんもりやま"]
[33,"比叡山",26,"520-0113","大津市坂本四丁目3-1","077-578-0091","077-579-3413"]
[34,"石山",35,"520-0844","大津市国分一丁目15-1","077-537-3371","077-537-6748"]
[35,"瀬田工業",36,"520-2132","大津市神領三丁目18-1","077-545-2510","077-543-4872"]
[36,"彦根東",37,"522-0061","彦根市金亀町4-7","0749-22-4800","0749-26-3879"]
[37,"河瀬",38,"522-0223","彦根市川瀬馬場町975","0749-25-2200","0749-28-2935"]
[38,"彦根西",39,"522-0065","彦根市池洲町9-73","0749-22-4890","0749-26-9743"]
[39,"彦根翔陽",40,"522-0033","彦根市芹川町580","0749-23-1491","0749-26-3615"]
[40,"長浜北",41,"526-0847","長浜市山階町352","0749-62-0238","0749-65-1341"]
[41,"長浜農業",42,"526-0824","長浜市名越町600","0749-62-0876","0749-65-1343"]
[42,"八幡工業",43,"523-0816","近江八幡市西庄町5","0748-37-7227","0748-37-1174"]
[43,"八幡商業",44,"523-0895","近江八幡市宇津呂町10","0748-32-2072","0748-32-4052"]
[44,"草津東",45,"525-0025","草津市西渋川二丁目8-65","077-564-4681","077-562-1601"]
[45,"湖南農業",46,"525-0036","草津市草津町1839","077-564-5255","077-562-1186"]
[46,"水口",47,"528-0022","甲賀市水口町梅が丘3-1","0748-62-4104","0748-62-6967"]
[47,"信楽",48,"529-1851","甲賀市信楽町長野317-1","0748-82-0167","0748-82-2124"]
[49,"甲西",50,"520-3231","湖南市針1","0748-72-3611","0748-72-5549"]
[50,"安曇川",51,"520-1212","高島市安曇川町西万木1168","0740-32-0477","0740-32-3383"]
[51,"八日市",52,"527-0022","東近江市八日市上之町1-25","0748-22-1515","0748-23-2191"]
[52,"伊香",53,"529-0425","伊香郡木之本町木之本251","0749-82-4141","0749-82-4477"]
[55,"彦根女子",56,"522-0033","彦根市芹川町328","0749-26-0016","0749-22-1510"]
[56,"大津清陵",57,"520-0867","大津市大平一丁目14-1","077-537-5004","077-537-6753"]
[57,"大津清陵(馬場分校)",58,"520-0802","大津市馬場一丁目1-1","077-523-0387","077-526-2091"]
[58,"瀬田",59,"520-2132","大津市神領三丁目18-1","077-545-5315","077-544-4010"]
[59,"彦根東",60,"522-0061","彦根市金亀町4-7","0749-22-4800","0749-26-3879"]
[60,"綾羽",61,"525-0025","草津市西渋川一丁目18-1","077-563-3435","077-565-5820"]
[61,"大津清陵",62,"520-0867","大津市大平一丁目14-1","077-537-5333","077-537-6753"]
[62,"綾羽",63,"525-0025","草津市西渋川一丁目18-1","077-563-3435","077-565-5820"]
[63,"司学館",64,"527-0026","東近江市八日市野々宮町2-30","0748-22-1176","0748-22-1176"]